FILENAME: O4610613.SWS.1008341.tif
QUADRANGLE_NAME: CLEAR WATER RESERVOIR
QUADRANT: SW
WEST_LONGITUDE: -106 30 0.00000
EAST_LONGITUDE: -106 26 15.00000
NORTH_LATITUDE: 46 48 45.00000
SOUTH_LATITUDE: 46 45 0.00000
PRODUCTION_DATE: 1999 5 14
RASTER_ORDER: LEFT_RIGHT/TOP_BOTTOM
BAND_ORGANIZATION: SINGLE FILE
BAND_CONTENT: BLACK&WHITE
BAND_CONTENT: UNDEFINED
BAND_CONTENT: UNDEFINED
BITS_PER_PIXEL: 8
SAMPLES_AND_LINES: 5549 7638
HORIZONTAL_DATUM: NAD83
HORIZONTAL_COORDINATE_SYSTEM: UTM
COORDINATE_ZONE: 13
HORIZONTAL_UNITS: METERS
HORIZONTAL_RESOLUTION: 1.00000
SECONDARY_HORIZONTAL_DATUM: NAD27
XY_ORIGIN: 385085.00000 5185722.00000
SECONDARY_XY_ORIGIN: 385126.58200 5185502.78500
NATION: US
NATION: "SCIENCE
STATE: MT
NW_QUAD_CORNER_XY: 385564.11400 5185420.57000
NE_QUAD_CORNER_XY: 390332.21300 5185331.43200
SE_QUAD_CORNERY_XY: 390205.20700 5178386.43300
SW_QUAD_CORNER_XY: 385431.58400 5178475.58300
SECONDARY_NW_QUAD_XY: 385560.60100 5185202.15800
SECONDARY_NE_QUAD_XY: 390328.84600 5185113.01700
SECONDARY_SE_QUAD_XY: 390201.84100 5178168.05000
SECONDARY_SW_QUAD_XY: 385428.07200 5178257.20300
RMSE_XY: 2.20000
IMAGE_SOURCE: BLACK AND WHITE FILM
SOURCE_IMAGE_ID: NAPP 9106 294
SOURCE_IMAGE_DATE: 1996 08 07
SOURCE_IMAGE_ID: NAPP 9110 067
SOURCE_IMAGE_DATE: 1996 08 11
SOURCE_IMAGE_ID: NAPP 9106 295
SOURCE_IMAGE_DATE: 1996 08 07
SOURCE_DEM_DATE: 1997 01 01
AGENCY: WESTERN MAPPING CENTER (WMC)
PRODUCER: UNDEFINED
PRODUCTION_SYSTEM: GIS/MAGIC
COMPRESSION: UNDEFINED
STANDARD_VERSION: 1996 12
METADATA_DATE: 1999 06 02
DATA_FILE_SIZE: 42388811
BYTE_COUNT: 5549
