FILENAME: O4610612.NWS.1008263.tif
QUADRANGLE_NAME: NEEDLE BUTTE
QUADRANT: NW
WEST_LONGITUDE: -106 37 30.00000
EAST_LONGITUDE: -106 33 45.00000
NORTH_LATITUDE: 46 52 30.00000
SOUTH_LATITUDE: 46 48 45.00000
PRODUCTION_DATE: 1999 5 14
RASTER_ORDER: LEFT_RIGHT/TOP_BOTTOM
BAND_ORGANIZATION: SINGLE FILE
BAND_CONTENT: BLACK&WHITE
BAND_CONTENT: UNDEFINED
BAND_CONTENT: UNDEFINED
BITS_PER_PIXEL: 8
SAMPLES_AND_LINES: 5555 7646
HORIZONTAL_DATUM: NAD83
HORIZONTAL_COORDINATE_SYSTEM: UTM
COORDINATE_ZONE: 13
HORIZONTAL_UNITS: METERS
HORIZONTAL_RESOLUTION: 1.00000
SECONDARY_HORIZONTAL_DATUM: NAD27
XY_ORIGIN: 375681.00000 5192857.00000
SECONDARY_XY_ORIGIN: 375722.87200 5192637.75400
NATION: US
NATION: "SCIENCE
STATE: MT
NW_QUAD_CORNER_XY: 376171.67100 5192555.26300
NE_QUAD_CORNER_XY: 380934.22200 5192458.54800
SE_QUAD_CORNERY_XY: 380796.02400 5185513.50300
SW_QUAD_CORNER_XY: 376027.94300 5185610.23100
SECONDARY_NW_QUAD_XY: 376167.86500 5192336.82600
SECONDARY_NE_QUAD_XY: 380930.56200 5192240.10900
SECONDARY_SE_QUAD_XY: 380792.36500 5185295.09400
SECONDARY_SW_QUAD_XY: 376024.13700 5185391.82500
RMSE_XY: 1.50000
IMAGE_SOURCE: BLACK AND WHITE FILM
SOURCE_IMAGE_ID: NAPP 9110 210
SOURCE_IMAGE_DATE: 1996 08 11
SOURCE_IMAGE_ID: NAPP 9110 211
SOURCE_IMAGE_DATE: 1996 08 11
SOURCE_DEM_DATE: 1988 00 00
AGENCY: WESTERN MAPPING CENTER (WMC)
PRODUCER: UNDEFINED
PRODUCTION_SYSTEM: GIS/MAGIC
COMPRESSION: UNDEFINED
STANDARD_VERSION: 1996 12
METADATA_DATE: 1999 06 02
DATA_FILE_SIZE: 42479085
BYTE_COUNT: 5555
