FILENAME: O4610611.SWS.1008675.tif
QUADRANGLE_NAME: NEEDLE BUTTE RESERVOIR
QUADRANT: SW
WEST_LONGITUDE: -106 45 0.00000
EAST_LONGITUDE: -106 41 15.00000
NORTH_LATITUDE: 46 48 45.00000
SOUTH_LATITUDE: 46 45 0.00000
PRODUCTION_DATE: 1999 5 14
RASTER_ORDER: LEFT_RIGHT/TOP_BOTTOM
BAND_ORGANIZATION: SINGLE FILE
BAND_CONTENT: BLACK&WHITE
BAND_CONTENT: UNDEFINED
BAND_CONTENT: UNDEFINED
BITS_PER_PIXEL: 8
SAMPLES_AND_LINES: 5571 7653
HORIZONTAL_DATUM: NAD83
HORIZONTAL_COORDINATE_SYSTEM: UTM
COORDINATE_ZONE: 13
HORIZONTAL_UNITS: METERS
HORIZONTAL_RESOLUTION: 1.00000
SECONDARY_HORIZONTAL_DATUM: NAD27
XY_ORIGIN: 365990.00000 5186116.00000
SECONDARY_XY_ORIGIN: 366032.10800 5185896.83600
NATION: US
NATION: "SCIENCE
STATE: MT
NW_QUAD_CORNER_XY: 366491.80800 5185815.07200
NE_QUAD_CORNER_XY: 371259.87100 5185710.75400
SE_QUAD_CORNERY_XY: 371110.76600 5178765.80600
SW_QUAD_CORNER_XY: 366337.17800 5178870.13800
SECONDARY_NW_QUAD_XY: 366487.71000 5185596.67300
SECONDARY_NE_QUAD_XY: 371255.91900 5185492.35100
SECONDARY_SE_QUAD_XY: 371106.81500 5178547.43400
SECONDARY_SW_QUAD_XY: 366333.08000 5178651.76900
RMSE_XY: 2.10000
IMAGE_SOURCE: BLACK AND WHITE FILM
SOURCE_IMAGE_ID: NAPP 9111 230
SOURCE_IMAGE_DATE: 1996 08 11
SOURCE_IMAGE_ID: NAPP 9111 229
SOURCE_IMAGE_DATE: 1996 08 11
SOURCE_DEM_DATE: 1988 00 00
AGENCY: WESTERN MAPPING CENTER (WMC)
PRODUCER: UNDEFINED
PRODUCTION_SYSTEM: GIS/MAGIC
COMPRESSION: UNDEFINED
STANDARD_VERSION: 1996 12
METADATA_DATE: 1999 05 24
DATA_FILE_SIZE: 42640434
BYTE_COUNT: 5571
