FILENAME: O4610610.NWS.1008649.tif
QUADRANGLE_NAME: STELLAR LAKE
QUADRANT: NW
WEST_LONGITUDE: -106 52 30.00000
EAST_LONGITUDE: -106 48 45.00000
NORTH_LATITUDE: 46 52 30.00000
SOUTH_LATITUDE: 46 48 45.00000
PRODUCTION_DATE: 1999 5 14
RASTER_ORDER: LEFT_RIGHT/TOP_BOTTOM
BAND_ORGANIZATION: SINGLE FILE
BAND_CONTENT: BLACK&WHITE
BAND_CONTENT: UNDEFINED
BAND_CONTENT: UNDEFINED
BITS_PER_PIXEL: 8
SAMPLES_AND_LINES: 5579 7660
HORIZONTAL_DATUM: NAD83
HORIZONTAL_COORDINATE_SYSTEM: UTM
COORDINATE_ZONE: 13
HORIZONTAL_UNITS: METERS
HORIZONTAL_RESOLUTION: 1.00000
SECONDARY_HORIZONTAL_DATUM: NAD27
XY_ORIGIN: 356607.00000 5193281.00000
SECONDARY_XY_ORIGIN: 356649.36300 5193061.79600
NATION: US
NATION: "SCIENCE
STATE: MT
NW_QUAD_CORNER_XY: 357121.56700 5192980.06900
NE_QUAD_CORNER_XY: 361884.07700 5192868.17500
SE_QUAD_CORNERY_XY: 361723.75500 5185923.18600
SW_QUAD_CORNER_XY: 356955.71300 5186035.09600
SECONDARY_NW_QUAD_XY: 357117.17500 5192761.64600
SECONDARY_NE_QUAD_XY: 361879.83200 5192649.74800
SECONDARY_SE_QUAD_XY: 361719.51100 5185704.79000
SECONDARY_SW_QUAD_XY: 356951.32200 5185816.70300
RMSE_XY: 2.00000
IMAGE_SOURCE: BLACK AND WHITE FILM
SOURCE_IMAGE_ID: NAPP 10723 033
SOURCE_IMAGE_DATE: 1997 08 28
SOURCE_IMAGE_ID: NAPP 10764 036
SOURCE_IMAGE_DATE: 1997 09 20
SOURCE_IMAGE_ID: NAPP 10723 031
SOURCE_IMAGE_DATE: 1997 08 28
SOURCE_DEM_DATE: 1989 00 00
AGENCY: WESTERN MAPPING CENTER (WMC)
PRODUCER: UNDEFINED
PRODUCTION_SYSTEM: GIS/MAGIC
COMPRESSION: UNDEFINED
STANDARD_VERSION: 1996 12
METADATA_DATE: 1999 05 24
DATA_FILE_SIZE: 42740719
BYTE_COUNT: 5579
