FILENAME: O4610604.NWS.1112339.tif
QUADRANGLE_NAME: CHRISTENSON RESERVOIR
QUADRANT: NW
WEST_LONGITUDE: -106 37 30.00000
EAST_LONGITUDE: -106 33 45.00000
NORTH_LATITUDE: 47 0 0.00000
SOUTH_LATITUDE: 46 56 15.00000
PRODUCTION_DATE: 2000 11 16
RASTER_ORDER: LEFT_RIGHT/TOP_BOTTOM
BAND_ORGANIZATION: SINGLE FILE
BAND_CONTENT: BLACK&WHITE
BAND_CONTENT: UNDEFINED
BAND_CONTENT: UNDEFINED
BITS_PER_PIXEL: 8
SAMPLES_AND_LINES: 5545 7646
HORIZONTAL_DATUM: NAD83
HORIZONTAL_COORDINATE_SYSTEM: UTM
COORDINATE_ZONE: 13
HORIZONTAL_UNITS: METERS
HORIZONTAL_RESOLUTION: 1.00000
SECONDARY_HORIZONTAL_DATUM: NAD27
XY_ORIGIN: 375968.00000 5206747.00000
SECONDARY_XY_ORIGIN: 376009.91700 5206527.64300
NATION: US
NATION: "SCIENCE
STATE: MT
NW_QUAD_CORNER_XY: 376459.57200 5206445.53700
NE_QUAD_CORNER_XY: 381211.04500 5206348.85000
SE_QUAD_CORNERY_XY: 381072.56200 5199403.66400
SW_QUAD_CORNER_XY: 376315.54800 5199500.36500
SECONDARY_NW_QUAD_XY: 376455.76500 5206227.04200
SECONDARY_NE_QUAD_XY: 381207.38400 5206130.35200
SECONDARY_SE_QUAD_XY: 381068.90200 5199185.19500
SECONDARY_SW_QUAD_XY: 376311.74100 5199281.89800
RMSE_XY: 1.80000
IMAGE_SOURCE: BLACK AND WHITE FILM
SOURCE_IMAGE_ID: NAPP 9110 206
SOURCE_IMAGE_DATE: 1996 08 11
SOURCE_DEM_DATE: 1988 00 00
AGENCY: WESTERN MAPPING CENTER (WMC)
PRODUCER: UNDEFINED
PRODUCTION_SYSTEM: GIS/MAGIC
COMPRESSION: UNDEFINED
STANDARD_VERSION: 1996 12
METADATA_DATE: 2000 11 16
DATA_FILE_SIZE: 42402615
BYTE_COUNT: 5545
