FILENAME: O4610603.NWS.1112303.tif
QUADRANGLE_NAME: BLACK HILLS
QUADRANT: NW
WEST_LONGITUDE: -106 45 0.00000
EAST_LONGITUDE: -106 41 15.00000
NORTH_LATITUDE: 47 0 0.00000
SOUTH_LATITUDE: 46 56 15.00000
PRODUCTION_DATE: 2000 11 13
RASTER_ORDER: LEFT_RIGHT/TOP_BOTTOM
BAND_ORGANIZATION: SINGLE FILE
BAND_CONTENT: BLACK&WHITE
BAND_CONTENT: UNDEFINED
BAND_CONTENT: UNDEFINED
BITS_PER_PIXEL: 8
SAMPLES_AND_LINES: 5556 7654
HORIZONTAL_DATUM: NAD83
HORIZONTAL_COORDINATE_SYSTEM: UTM
COORDINATE_ZONE: 13
HORIZONTAL_UNITS: METERS
HORIZONTAL_RESOLUTION: 1.00000
SECONDARY_HORIZONTAL_DATUM: NAD27
XY_ORIGIN: 366454.00000 5206952.00000
SECONDARY_XY_ORIGIN: 366496.15600 5206732.62500
NATION: US
NATION: "SCIENCE
STATE: MT
NW_QUAD_CORNER_XY: 366956.65800 5206650.29000
NE_QUAD_CORNER_XY: 371708.11000 5206546.01700
SE_QUAD_CORNERY_XY: 371558.54300 5199600.85900
SW_QUAD_CORNER_XY: 366801.54800 5199705.14900
SECONDARY_NW_QUAD_XY: 366952.55800 5206431.80200
SECONDARY_NE_QUAD_XY: 371704.15600 5206327.52500
SECONDARY_SE_QUAD_XY: 371554.59000 5199382.39600
SECONDARY_SW_QUAD_XY: 366797.44900 5199486.68900
RMSE_XY: 2.40000
IMAGE_SOURCE: BLACK AND WHITE FILM
SOURCE_IMAGE_ID: NAPP 9111 224
SOURCE_IMAGE_DATE: 1996 08 11
SOURCE_DEM_DATE: 2000 01 01
AGENCY: WESTERN MAPPING CENTER (WMC)
PRODUCER: UNDEFINED
PRODUCTION_SYSTEM: GIS/MAGIC
COMPRESSION: UNDEFINED
STANDARD_VERSION: 1996 12
METADATA_DATE: 2000 11 17
DATA_FILE_SIZE: 42531180
BYTE_COUNT: 5556
