FILENAME: O4610601.NES.1112230.tif
QUADRANGLE_NAME: MOTHER BUTTE
QUADRANT: NE
WEST_LONGITUDE: -106 56 15.00000
EAST_LONGITUDE: -106 52 30.00000
NORTH_LATITUDE: 47 0 0.00000
SOUTH_LATITUDE: 46 56 15.00000
PRODUCTION_DATE: 2000 11 16
RASTER_ORDER: LEFT_RIGHT/TOP_BOTTOM
BAND_ORGANIZATION: SINGLE FILE
BAND_CONTENT: BLACK&WHITE
BAND_CONTENT: UNDEFINED
BAND_CONTENT: UNDEFINED
BITS_PER_PIXEL: 8
SAMPLES_AND_LINES: 5573 7664
HORIZONTAL_DATUM: NAD83
HORIZONTAL_COORDINATE_SYSTEM: UTM
COORDINATE_ZONE: 13
HORIZONTAL_UNITS: METERS
HORIZONTAL_RESOLUTION: 1.00000
SECONDARY_HORIZONTAL_DATUM: NAD27
XY_ORIGIN: 352182.00000 5207287.00000
SECONDARY_XY_ORIGIN: 352224.53900 5207067.57300
NATION: US
NATION: "SCIENCE
STATE: MT
NW_QUAD_CORNER_XY: 352702.36900 5206985.87600
NE_QUAD_CORNER_XY: 357453.78700 5206870.22000
SE_QUAD_CORNERY_XY: 357287.59100 5199925.11000
SW_QUAD_CORNER_XY: 352530.63000 5200040.78400
SECONDARY_NW_QUAD_XY: 352697.82900 5206767.39800
SECONDARY_NE_QUAD_XY: 357449.39400 5206651.73800
SECONDARY_SE_QUAD_XY: 357283.19900 5199706.65700
SECONDARY_SW_QUAD_XY: 352526.09100 5199822.33400
RMSE_XY: 2.00000
IMAGE_SOURCE: BLACK AND WHITE FILM
SOURCE_IMAGE_ID: NAPP 10764 032
SOURCE_IMAGE_DATE: 1997 09 20
SOURCE_DEM_DATE: 2000 01 01
AGENCY: WESTERN MAPPING CENTER (WMC)
PRODUCER: UNDEFINED
PRODUCTION_SYSTEM: GIS/MAGIC
COMPRESSION: UNDEFINED
STANDARD_VERSION: 1996 12
METADATA_DATE: 2000 11 17
DATA_FILE_SIZE: 42717045
BYTE_COUNT: 5573
