FILENAME: O4610601.SES.1112232.tif
QUADRANGLE_NAME: MOTHER BUTTE
QUADRANT: SE
WEST_LONGITUDE: -106 56 15.00000
EAST_LONGITUDE: -106 52 30.00000
NORTH_LATITUDE: 46 56 15.00000
SOUTH_LATITUDE: 46 52 30.00000
PRODUCTION_DATE: 2000 11 16
RASTER_ORDER: LEFT_RIGHT/TOP_BOTTOM
BAND_ORGANIZATION: SINGLE FILE
BAND_CONTENT: BLACK&WHITE
BAND_CONTENT: UNDEFINED
BAND_CONTENT: UNDEFINED
BITS_PER_PIXEL: 8
SAMPLES_AND_LINES: 5578 7664
HORIZONTAL_DATUM: NAD83
HORIZONTAL_COORDINATE_SYSTEM: UTM
COORDINATE_ZONE: 13
HORIZONTAL_UNITS: METERS
HORIZONTAL_RESOLUTION: 1.00000
SECONDARY_HORIZONTAL_DATUM: NAD27
XY_ORIGIN: 352011.00000 5200342.00000
SECONDARY_XY_ORIGIN: 352053.51100 5200122.69000
NATION: US
NATION: "SCIENCE
STATE: MT
NW_QUAD_CORNER_XY: 352530.63000 5200040.78400
NE_QUAD_CORNER_XY: 357287.59100 5199925.11000
SE_QUAD_CORNERY_XY: 357121.56700 5192980.06900
SW_QUAD_CORNER_XY: 352359.06700 5193095.75900
SECONDARY_NW_QUAD_XY: 352526.09100 5199822.33400
SECONDARY_NE_QUAD_XY: 357283.19900 5199706.65700
SECONDARY_SE_QUAD_XY: 357117.17500 5192761.64600
SECONDARY_SW_QUAD_XY: 352354.52900 5192877.33900
RMSE_XY: 1.90000
IMAGE_SOURCE: BLACK AND WHITE FILM
SOURCE_IMAGE_ID: NAPP 10764 034
SOURCE_IMAGE_DATE: 1997 09 20
SOURCE_DEM_DATE: 2000 01 01
AGENCY: WESTERN MAPPING CENTER (WMC)
PRODUCER: UNDEFINED
PRODUCTION_SYSTEM: GIS/MAGIC
COMPRESSION: UNDEFINED
STANDARD_VERSION: 1996 12
METADATA_DATE: 2000 11 17
DATA_FILE_SIZE: 42755370
BYTE_COUNT: 5578
