FILENAME: O4610764.SES.1008856.tif
QUADRANGLE_NAME: MINNEHAHA CREEK NORTH
QUADRANT: SE
WEST_LONGITUDE: -107 3 45.00000
EAST_LONGITUDE: -107 0 0.00000
NORTH_LATITUDE: 46 3 45.00000
SOUTH_LATITUDE: 46 0 0.00000
PRODUCTION_DATE: 1999 5 24
RASTER_ORDER: LEFT_RIGHT/TOP_BOTTOM
BAND_ORGANIZATION: SINGLE FILE
BAND_CONTENT: BLACK&WHITE
BAND_CONTENT: UNDEFINED
BAND_CONTENT: UNDEFINED
BITS_PER_PIXEL: 8
SAMPLES_AND_LINES: 5663 7670
HORIZONTAL_DATUM: NAD83
HORIZONTAL_COORDINATE_SYSTEM: UTM
COORDINATE_ZONE: 13
HORIZONTAL_UNITS: METERS
HORIZONTAL_RESOLUTION: 1.00000
SECONDARY_HORIZONTAL_DATUM: NAD27
XY_ORIGIN: 339949.00000 5103360.00000
SECONDARY_XY_ORIGIN: 339991.11100 5103142.01500
NATION: US
NATION: "SCIENCE
STATE: MT
NW_QUAD_CORNER_XY: 340476.99400 5103059.69800
NE_QUAD_CORNER_XY: 345310.95300 5102936.24000
SE_QUAD_CORNERY_XY: 345136.42700 5095992.17100
SW_QUAD_CORNER_XY: 340297.00900 5096115.63800
SECONDARY_NW_QUAD_XY: 340472.17500 5102841.74700
SECONDARY_NE_QUAD_XY: 345306.28000 5102718.28600
SECONDARY_SE_QUAD_XY: 345131.75400 5095774.25800
SECONDARY_SW_QUAD_XY: 340292.19100 5095897.72900
RMSE_XY: 1.10000
IMAGE_SOURCE: BLACK AND WHITE FILM
SOURCE_IMAGE_ID: NAPP 9099 131
SOURCE_IMAGE_DATE: 1996 07 14
SOURCE_IMAGE_ID: NAPP 9099 046
SOURCE_IMAGE_DATE: 1996 07 14
SOURCE_DEM_DATE: 1971 00 00
AGENCY: WESTERN MAPPING CENTER (WMC)
PRODUCER: UNDEFINED
PRODUCTION_SYSTEM: GIS/MAGIC
COMPRESSION: UNDEFINED
STANDARD_VERSION: 1996 12
METADATA_DATE: 1999 06 02
DATA_FILE_SIZE: 43440873
BYTE_COUNT: 5663
