FILENAME: O4610764.SWS.1008857.tif
QUADRANGLE_NAME: MINNEHAHA CREEK NORTH
QUADRANT: SW
WEST_LONGITUDE: -107 7 30.00000
EAST_LONGITUDE: -107 3 45.00000
NORTH_LATITUDE: 46 3 45.00000
SOUTH_LATITUDE: 46 0 0.00000
PRODUCTION_DATE: 1999 5 24
RASTER_ORDER: LEFT_RIGHT/TOP_BOTTOM
BAND_ORGANIZATION: SINGLE FILE
BAND_CONTENT: BLACK&WHITE
BAND_CONTENT: UNDEFINED
BAND_CONTENT: UNDEFINED
BITS_PER_PIXEL: 8
SAMPLES_AND_LINES: 5669 7675
HORIZONTAL_DATUM: NAD83
HORIZONTAL_COORDINATE_SYSTEM: UTM
COORDINATE_ZONE: 13
HORIZONTAL_UNITS: METERS
HORIZONTAL_RESOLUTION: 1.00000
SECONDARY_HORIZONTAL_DATUM: NAD27
XY_ORIGIN: 335109.00000 5103488.00000
SECONDARY_XY_ORIGIN: 335151.23600 5103270.00300
NATION: US
NATION: "SCIENCE
STATE: MT
NW_QUAD_CORNER_XY: 335643.04200 5103186.95700
NE_QUAD_CORNER_XY: 340476.99400 5103059.69800
SE_QUAD_CORNERY_XY: 340297.00900 5096115.63800
SW_QUAD_CORNER_XY: 335457.59900 5096242.90700
SECONDARY_NW_QUAD_XY: 335638.07700 5102969.01100
SECONDARY_NE_QUAD_XY: 340472.17500 5102841.74700
SECONDARY_SE_QUAD_XY: 340292.19100 5095897.72900
SECONDARY_SW_QUAD_XY: 335452.63400 5096025.00200
RMSE_XY: 1.50000
IMAGE_SOURCE: BLACK AND WHITE FILM
SOURCE_IMAGE_ID: NAPP 9099 201
SOURCE_IMAGE_DATE: 1996 07 14
SOURCE_IMAGE_ID: NAPP 9100 044
SOURCE_IMAGE_DATE: 1996 07 14
SOURCE_DEM_DATE: 1971 00 00
AGENCY: WESTERN MAPPING CENTER (WMC)
PRODUCER: UNDEFINED
PRODUCTION_SYSTEM: GIS/MAGIC
COMPRESSION: UNDEFINED
STANDARD_VERSION: 1996 12
METADATA_DATE: 1999 06 02
DATA_FILE_SIZE: 43515244
BYTE_COUNT: 5669
