FILENAME: O4610763.SES.1008852.tif
QUADRANGLE_NAME: SOUTH BEAR CREEK
QUADRANT: SE
WEST_LONGITUDE: -107 11 15.00000
EAST_LONGITUDE: -107 7 30.00000
NORTH_LATITUDE: 46 3 45.00000
SOUTH_LATITUDE: 46 0 0.00000
PRODUCTION_DATE: 1999 5 24
RASTER_ORDER: LEFT_RIGHT/TOP_BOTTOM
BAND_ORGANIZATION: SINGLE FILE
BAND_CONTENT: BLACK&WHITE
BAND_CONTENT: UNDEFINED
BAND_CONTENT: UNDEFINED
BITS_PER_PIXEL: 8
SAMPLES_AND_LINES: 5676 7679
HORIZONTAL_DATUM: NAD83
HORIZONTAL_COORDINATE_SYSTEM: UTM
COORDINATE_ZONE: 13
HORIZONTAL_UNITS: METERS
HORIZONTAL_RESOLUTION: 1.00000
SECONDARY_HORIZONTAL_DATUM: NAD27
XY_ORIGIN: 330269.00000 5103619.00000
SECONDARY_XY_ORIGIN: 330311.36100 5103400.99000
NATION: US
NATION: "SCIENCE
STATE: MT
NW_QUAD_CORNER_XY: 330809.09700 5103318.01900
NE_QUAD_CORNER_XY: 335643.04200 5103186.95700
SE_QUAD_CORNERY_XY: 335457.59900 5096242.90700
SW_QUAD_CORNER_XY: 330618.19400 5096373.97800
SECONDARY_NW_QUAD_XY: 330803.98600 5103100.07600
SECONDARY_NE_QUAD_XY: 335638.07700 5102969.01100
SECONDARY_SE_QUAD_XY: 335452.63400 5096025.00200
SECONDARY_SW_QUAD_XY: 330613.08400 5096156.07700
RMSE_XY: 0.90000
IMAGE_SOURCE: BLACK AND WHITE FILM
SOURCE_IMAGE_ID: NAPP 9100 044
SOURCE_IMAGE_DATE: 1996 07 14
SOURCE_IMAGE_ID: NAPP 9098 048
SOURCE_IMAGE_DATE: 1996 07 14
SOURCE_IMAGE_ID: NAPP 9100 046
SOURCE_IMAGE_DATE: 1996 07 14
SOURCE_IMAGE_ID: NAPP 9099 201
SOURCE_IMAGE_DATE: 1996 07 14
SOURCE_DEM_DATE: 1971 00 00
AGENCY: WESTERN MAPPING CENTER (WMC)
PRODUCER: UNDEFINED
PRODUCTION_SYSTEM: GIS/MAGIC
COMPRESSION: UNDEFINED
STANDARD_VERSION: 1996 12
METADATA_DATE: 1999 06 02
DATA_FILE_SIZE: 43591680
BYTE_COUNT: 5676
