FILENAME: O4610762.NES.1008842.tif
QUADRANGLE_NAME: HOPE RANCH
QUADRANT: NE
WEST_LONGITUDE: -107 18 45.00000
EAST_LONGITUDE: -107 15 0.00000
NORTH_LATITUDE: 46 7 30.00000
SOUTH_LATITUDE: 46 3 45.00000
PRODUCTION_DATE: 1999 5 24
RASTER_ORDER: LEFT_RIGHT/TOP_BOTTOM
BAND_ORGANIZATION: SINGLE FILE
BAND_CONTENT: BLACK&WHITE
BAND_CONTENT: UNDEFINED
BAND_CONTENT: UNDEFINED
BITS_PER_PIXEL: 8
SAMPLES_AND_LINES: 5681 7686
HORIZONTAL_DATUM: NAD83
HORIZONTAL_COORDINATE_SYSTEM: UTM
COORDINATE_ZONE: 13
HORIZONTAL_UNITS: METERS
HORIZONTAL_RESOLUTION: 1.00000
SECONDARY_HORIZONTAL_DATUM: NAD27
XY_ORIGIN: 320792.00000 5110836.00000
SECONDARY_XY_ORIGIN: 320834.51400 5110617.97700
NATION: US
NATION: "SCIENCE
STATE: MT
NW_QUAD_CORNER_XY: 321343.26600 5110535.63300
NE_QUAD_CORNER_XY: 326171.73100 5110396.97800
SE_QUAD_CORNERY_XY: 325975.16000 5103452.88300
SW_QUAD_CORNER_XY: 321141.23000 5103591.55000
SECONDARY_NW_QUAD_XY: 321337.86100 5110317.65800
SECONDARY_NE_QUAD_XY: 326166.47200 5110178.99900
SECONDARY_SE_QUAD_XY: 325969.90200 5103234.94400
SECONDARY_SW_QUAD_XY: 321135.82600 5103373.61500
RMSE_XY: 2.10000
IMAGE_SOURCE: BLACK AND WHITE FILM
SOURCE_IMAGE_ID: NAPP 9126 034
SOURCE_IMAGE_DATE: 1996 07 14
SOURCE_IMAGE_ID: NAPP 9133 072
SOURCE_IMAGE_DATE: 1996 08 08
SOURCE_DEM_DATE: 1956 00 00
AGENCY: WESTERN MAPPING CENTER (WMC)
PRODUCER: UNDEFINED
PRODUCTION_SYSTEM: GIS/MAGIC
COMPRESSION: UNDEFINED
STANDARD_VERSION: 1996 12
METADATA_DATE: 1999 06 02
DATA_FILE_SIZE: 43669847
BYTE_COUNT: 5681
