FILENAME: O4610762.NWS.1008843.tif
QUADRANGLE_NAME: HOPE RANCH
QUADRANT: NW
WEST_LONGITUDE: -107 22 30.00000
EAST_LONGITUDE: -107 18 45.00000
NORTH_LATITUDE: 46 7 30.00000
SOUTH_LATITUDE: 46 3 45.00000
PRODUCTION_DATE: 1999 5 25
RASTER_ORDER: LEFT_RIGHT/TOP_BOTTOM
BAND_ORGANIZATION: SINGLE FILE
BAND_CONTENT: BLACK&WHITE
BAND_CONTENT: UNDEFINED
BAND_CONTENT: UNDEFINED
BITS_PER_PIXEL: 8
SAMPLES_AND_LINES: 5687 7690
HORIZONTAL_DATUM: NAD83
HORIZONTAL_COORDINATE_SYSTEM: UTM
COORDINATE_ZONE: 13
HORIZONTAL_UNITS: METERS
HORIZONTAL_RESOLUTION: 1.00000
SECONDARY_HORIZONTAL_DATUM: NAD27
XY_ORIGIN: 315958.00000 5110979.00000
SECONDARY_XY_ORIGIN: 316000.56600 5110760.98000
NATION: US
NATION: "SCIENCE
STATE: MT
NW_QUAD_CORNER_XY: 316514.81000 5110678.09100
NE_QUAD_CORNER_XY: 321343.26600 5110535.63300
SE_QUAD_CORNERY_XY: 321141.23000 5103591.55000
SW_QUAD_CORNER_XY: 316307.30700 5103734.01900
SECONDARY_NW_QUAD_XY: 316509.25900 5110460.12100
SECONDARY_NE_QUAD_XY: 321337.86100 5110317.65800
SECONDARY_SE_QUAD_XY: 321135.82600 5103373.61500
SECONDARY_SW_QUAD_XY: 316301.75800 5103516.08900
RMSE_XY: 1.10000
IMAGE_SOURCE: BLACK AND WHITE FILM
SOURCE_IMAGE_ID: NAPP 9133 073
SOURCE_IMAGE_DATE: 1996 08 08
SOURCE_IMAGE_ID: NAPP 9133 148
SOURCE_IMAGE_DATE: 1996 08 08
SOURCE_IMAGE_ID: NAPP 9133 074
SOURCE_IMAGE_DATE: 1996 08 08
SOURCE_DEM_DATE: 1956 00 00
AGENCY: WESTERN MAPPING CENTER (WMC)
PRODUCER: UNDEFINED
PRODUCTION_SYSTEM: GIS/MAGIC
COMPRESSION: UNDEFINED
STANDARD_VERSION: 1996 12
METADATA_DATE: 1999 06 02
DATA_FILE_SIZE: 43738717
BYTE_COUNT: 5687
