FILENAME: O4610761.NES.1008838.tif
QUADRANGLE_NAME: MARSH COULEE
QUADRANT: NE
WEST_LONGITUDE: -107 26 15.00000
EAST_LONGITUDE: -107 22 30.00000
NORTH_LATITUDE: 46 7 30.00000
SOUTH_LATITUDE: 46 3 45.00000
PRODUCTION_DATE: 1999 5 24
RASTER_ORDER: LEFT_RIGHT/TOP_BOTTOM
BAND_ORGANIZATION: SINGLE FILE
BAND_CONTENT: BLACK&WHITE
BAND_CONTENT: UNDEFINED
BAND_CONTENT: UNDEFINED
BITS_PER_PIXEL: 8
SAMPLES_AND_LINES: 5692 7693
HORIZONTAL_DATUM: NAD83
HORIZONTAL_COORDINATE_SYSTEM: UTM
COORDINATE_ZONE: 13
HORIZONTAL_UNITS: METERS
HORIZONTAL_RESOLUTION: 1.00000
SECONDARY_HORIZONTAL_DATUM: NAD27
XY_ORIGIN: 311124.00000 5111125.00000
SECONDARY_XY_ORIGIN: 311166.61900 5110906.98200
NATION: US
NATION: "SCIENCE
STATE: MT
NW_QUAD_CORNER_XY: 311686.36300 5110824.35300
NE_QUAD_CORNER_XY: 316514.81000 5110678.09100
SE_QUAD_CORNERY_XY: 316307.30700 5103734.01900
SW_QUAD_CORNER_XY: 311473.39300 5103880.29300
SECONDARY_NW_QUAD_XY: 311680.66600 5110606.38700
SECONDARY_NE_QUAD_XY: 316509.25900 5110460.12100
SECONDARY_SE_QUAD_XY: 316301.75800 5103516.08900
SECONDARY_SW_QUAD_XY: 311467.69700 5103662.36700
RMSE_XY: 1.30000
IMAGE_SOURCE: BLACK AND WHITE FILM
SOURCE_IMAGE_ID: NAPP 9133 149
SOURCE_IMAGE_DATE: 1996 08 08
SOURCE_IMAGE_ID: NAPP 9133 148
SOURCE_IMAGE_DATE: 1996 08 08
SOURCE_DEM_DATE: 1956 00 00
AGENCY: WESTERN MAPPING CENTER (WMC)
PRODUCER: UNDEFINED
PRODUCTION_SYSTEM: GIS/MAGIC
COMPRESSION: UNDEFINED
STANDARD_VERSION: 1996 12
METADATA_DATE: 1999 06 02
DATA_FILE_SIZE: 43794248
BYTE_COUNT: 5692
