FILENAME: O4610761.NWS.1008839.tif
QUADRANGLE_NAME: MARSH COULEE
QUADRANT: NW
WEST_LONGITUDE: -107 30 0.00000
EAST_LONGITUDE: -107 26 15.00000
NORTH_LATITUDE: 46 7 30.00000
SOUTH_LATITUDE: 46 3 45.00000
PRODUCTION_DATE: 1999 5 24
RASTER_ORDER: LEFT_RIGHT/TOP_BOTTOM
BAND_ORGANIZATION: SINGLE FILE
BAND_CONTENT: BLACK&WHITE
BAND_CONTENT: UNDEFINED
BAND_CONTENT: UNDEFINED
BITS_PER_PIXEL: 8
SAMPLES_AND_LINES: 5699 7697
HORIZONTAL_DATUM: NAD83
HORIZONTAL_COORDINATE_SYSTEM: UTM
COORDINATE_ZONE: 13
HORIZONTAL_UNITS: METERS
HORIZONTAL_RESOLUTION: 1.00000
SECONDARY_HORIZONTAL_DATUM: NAD27
XY_ORIGIN: 306289.00000 5111275.00000
SECONDARY_XY_ORIGIN: 306331.67100 5111056.98400
NATION: US
NATION: "SCIENCE
STATE: MT
NW_QUAD_CORNER_XY: 306857.92400 5110974.41700
NE_QUAD_CORNER_XY: 311686.36300 5110824.35300
SE_QUAD_CORNERY_XY: 311473.39300 5103880.29300
SW_QUAD_CORNER_XY: 306639.48700 5104030.37000
SECONDARY_NW_QUAD_XY: 306852.08000 5110756.45600
SECONDARY_NE_QUAD_XY: 311680.66600 5110606.38700
SECONDARY_SE_QUAD_XY: 311467.69700 5103662.36700
SECONDARY_SW_QUAD_XY: 306633.64500 5103812.44900
RMSE_XY: 1.10000
IMAGE_SOURCE: BLACK AND WHITE FILM
SOURCE_IMAGE_ID: NAPP 9133 220
SOURCE_IMAGE_DATE: 1996 08 08
SOURCE_IMAGE_ID: NAPP 9133 149
SOURCE_IMAGE_DATE: 1996 08 08
SOURCE_DEM_DATE: 1956 00 00
AGENCY: WESTERN MAPPING CENTER (WMC)
PRODUCER: UNDEFINED
PRODUCTION_SYSTEM: GIS/MAGIC
COMPRESSION: UNDEFINED
STANDARD_VERSION: 1996 12
METADATA_DATE: 1999 06 02
DATA_FILE_SIZE: 43870902
BYTE_COUNT: 5699
