FILENAME: O4610761.SES.1008840.tif
QUADRANGLE_NAME: MARSH COULEE
QUADRANT: SE
WEST_LONGITUDE: -107 26 15.00000
EAST_LONGITUDE: -107 22 30.00000
NORTH_LATITUDE: 46 3 45.00000
SOUTH_LATITUDE: 46 0 0.00000
PRODUCTION_DATE: 1999 5 24
RASTER_ORDER: LEFT_RIGHT/TOP_BOTTOM
BAND_ORGANIZATION: SINGLE FILE
BAND_CONTENT: BLACK&WHITE
BAND_CONTENT: UNDEFINED
BAND_CONTENT: UNDEFINED
BITS_PER_PIXEL: 8
SAMPLES_AND_LINES: 5698 7693
HORIZONTAL_DATUM: NAD83
HORIZONTAL_COORDINATE_SYSTEM: UTM
COORDINATE_ZONE: 13
HORIZONTAL_UNITS: METERS
HORIZONTAL_RESOLUTION: 1.00000
SECONDARY_HORIZONTAL_DATUM: NAD27
XY_ORIGIN: 310911.00000 5104181.00000
SECONDARY_XY_ORIGIN: 310953.61400 5103962.97200
NATION: US
NATION: "SCIENCE
STATE: MT
NW_QUAD_CORNER_XY: 311473.39300 5103880.29300
NE_QUAD_CORNER_XY: 316307.30700 5103734.01900
SE_QUAD_CORNERY_XY: 316100.02400 5096790.01100
SW_QUAD_CORNER_XY: 311260.64900 5096936.29500
SECONDARY_NW_QUAD_XY: 311467.69700 5103662.36700
SECONDARY_NE_QUAD_XY: 316301.75800 5103516.08900
SECONDARY_SE_QUAD_XY: 316094.47600 5096572.12200
SECONDARY_SW_QUAD_XY: 311254.95400 5096718.41100
RMSE_XY: 1.10000
IMAGE_SOURCE: BLACK AND WHITE FILM
SOURCE_IMAGE_ID: NAPP 9133 151
SOURCE_IMAGE_DATE: 1996 08 08
SOURCE_IMAGE_ID: NAPP 9133 150
SOURCE_IMAGE_DATE: 1996 08 08
SOURCE_DEM_DATE: 1956 00 00
AGENCY: WESTERN MAPPING CENTER (WMC)
PRODUCER: UNDEFINED
PRODUCTION_SYSTEM: GIS/MAGIC
COMPRESSION: UNDEFINED
STANDARD_VERSION: 1996 12
METADATA_DATE: 1999 06 02
DATA_FILE_SIZE: 43840412
BYTE_COUNT: 5698
