FILENAME: O4610760.NES.1008830.tif
QUADRANGLE_NAME: MISSION CREEK
QUADRANT: NE
WEST_LONGITUDE: -107 33 45.00000
EAST_LONGITUDE: -107 30 0.00000
NORTH_LATITUDE: 46 7 30.00000
SOUTH_LATITUDE: 46 3 45.00000
PRODUCTION_DATE: 1999 4 23
RASTER_ORDER: LEFT_RIGHT/TOP_BOTTOM
BAND_ORGANIZATION: SINGLE FILE
BAND_CONTENT: BLACK&WHITE
BAND_CONTENT: UNDEFINED
BAND_CONTENT: UNDEFINED
BITS_PER_PIXEL: 8
SAMPLES_AND_LINES: 5704 7701
HORIZONTAL_DATUM: NAD83
HORIZONTAL_COORDINATE_SYSTEM: UTM
COORDINATE_ZONE: 13
HORIZONTAL_UNITS: METERS
HORIZONTAL_RESOLUTION: 1.00000
SECONDARY_HORIZONTAL_DATUM: NAD27
XY_ORIGIN: 301455.00000 5111429.00000
SECONDARY_XY_ORIGIN: 301497.86900 5111211.00800
NATION: US
NATION: "SCIENCE
STATE: MT
NW_QUAD_CORNER_XY: 302029.49400 5111128.28600
NE_QUAD_CORNER_XY: 306857.92400 5110974.41700
SE_QUAD_CORNERY_XY: 306639.48700 5104030.37000
SW_QUAD_CORNER_XY: 301805.58900 5104184.25100
SECONDARY_NW_QUAD_XY: 302023.50400 5110910.32900
SECONDARY_NE_QUAD_XY: 306852.08000 5110756.45600
SECONDARY_SE_QUAD_XY: 306633.64500 5103812.44900
SECONDARY_SW_QUAD_XY: 301799.60100 5103966.33400
RMSE_XY: 1.80000
IMAGE_SOURCE: BLACK AND WHITE FILM
SOURCE_IMAGE_ID: NAPP 9135 056
SOURCE_IMAGE_DATE: 1996 08 19
SOURCE_IMAGE_ID: NAPP 9135 127
SOURCE_IMAGE_DATE: 1996 08 19
SOURCE_DEM_DATE: 1956 00 00
AGENCY: WESTERN MAPPING CENTER (WMC)
PRODUCER: UNDEFINED
PRODUCTION_SYSTEM: GIS/MAGIC
COMPRESSION: UNDEFINED
STANDARD_VERSION: 1996 12
METADATA_DATE: 1999 06 02
DATA_FILE_SIZE: 43932208
BYTE_COUNT: 5704
