FILENAME: O4610759.NWS.1006910.tif
QUADRANGLE_NAME: WACO
QUADRANT: NW
WEST_LONGITUDE: -107 45 0.00000
EAST_LONGITUDE: -107 41 15.00000
NORTH_LATITUDE: 46 7 30.00000
SOUTH_LATITUDE: 46 3 45.00000
PRODUCTION_DATE: 1999 4 23
RASTER_ORDER: LEFT_RIGHT/TOP_BOTTOM
BAND_ORGANIZATION: SINGLE FILE
BAND_CONTENT: BLACK&WHITE
BAND_CONTENT: UNDEFINED
BAND_CONTENT: UNDEFINED
BITS_PER_PIXEL: 8
SAMPLES_AND_LINES: 5721 7712
HORIZONTAL_DATUM: NAD83
HORIZONTAL_COORDINATE_SYSTEM: UTM
COORDINATE_ZONE: 13
HORIZONTAL_UNITS: METERS
HORIZONTAL_RESOLUTION: 1.00000
SECONDARY_HORIZONTAL_DATUM: NAD27
XY_ORIGIN: 286953.00000 5111913.00000
SECONDARY_XY_ORIGIN: 286996.41200 5111695.06800
NATION: US
NATION: "SCIENCE
STATE: MT
NW_QUAD_CORNER_XY: 287544.25900 5111612.71700
NE_QUAD_CORNER_XY: 292372.66100 5111447.43500
SE_QUAD_CORNERY_XY: 292137.81900 5104503.42600
SW_QUAD_CORNER_XY: 287303.94800 5104668.72200
SECONDARY_NW_QUAD_XY: 287537.83100 5111394.77500
SECONDARY_NE_QUAD_XY: 292366.37900 5111229.48800
SECONDARY_SE_QUAD_XY: 292131.53900 5104285.51900
SECONDARY_SW_QUAD_XY: 287297.52200 5104450.82000
RMSE_XY: 1.00000
IMAGE_SOURCE: BLACK AND WHITE FILM
SOURCE_IMAGE_ID: NAPP 9139 041
SOURCE_IMAGE_DATE: 1996 08 26
SOURCE_IMAGE_ID: NAPP 9131 284
SOURCE_IMAGE_DATE: 1996 07 29
SOURCE_IMAGE_ID: NAPP 9131 283
SOURCE_IMAGE_DATE: 1996 07 29
SOURCE_IMAGE_ID: NAPP 9135 150
SOURCE_IMAGE_DATE: 1996 08 19
SOURCE_DEM_DATE: 1956 00 00
AGENCY: WESTERN MAPPING CENTER (WMC)
PRODUCER: UNDEFINED
PRODUCTION_SYSTEM: GIS/MAGIC
COMPRESSION: UNDEFINED
STANDARD_VERSION: 1996 12
METADATA_DATE: 1999 05 18
DATA_FILE_SIZE: 44126073
BYTE_COUNT: 5721
