FILENAME: O4610758.NWS.1006793.tif
QUADRANGLE_NAME: BULL MOUNTAIN
QUADRANT: NW
WEST_LONGITUDE: -107 52 30.00000
EAST_LONGITUDE: -107 48 45.00000
NORTH_LATITUDE: 46 7 30.00000
SOUTH_LATITUDE: 46 3 45.00000
PRODUCTION_DATE: 1999 4 23
RASTER_ORDER: LEFT_RIGHT/TOP_BOTTOM
BAND_ORGANIZATION: SINGLE FILE
BAND_CONTENT: BLACK&WHITE
BAND_CONTENT: UNDEFINED
BAND_CONTENT: UNDEFINED
BITS_PER_PIXEL: 8
SAMPLES_AND_LINES: 5733 7720
HORIZONTAL_DATUM: NAD83
HORIZONTAL_COORDINATE_SYSTEM: UTM
COORDINATE_ZONE: 13
HORIZONTAL_UNITS: METERS
HORIZONTAL_RESOLUTION: 1.00000
SECONDARY_HORIZONTAL_DATUM: NAD27
XY_ORIGIN: 277284.00000 5112255.00000
SECONDARY_XY_ORIGIN: 277327.92600 5112037.70300
NATION: US
NATION: "SCIENCE
STATE: MT
NW_QUAD_CORNER_XY: 277887.48500 5111954.69600
NE_QUAD_CORNER_XY: 282715.86700 5111781.80400
SE_QUAD_CORNERY_XY: 282470.08600 5104837.82200
SW_QUAD_CORNER_XY: 277636.23300 5105010.72900
SECONDARY_NW_QUAD_XY: 277880.76500 5111736.76400
SECONDARY_NE_QUAD_XY: 282709.29300 5111563.86700
SECONDARY_SE_QUAD_XY: 282463.51300 5104619.92600
SECONDARY_SW_QUAD_XY: 277629.51500 5104792.83800
RMSE_XY: 1.30000
IMAGE_SOURCE: BLACK AND WHITE FILM
SOURCE_IMAGE_ID: NAPP 9132 026
SOURCE_IMAGE_DATE: 1996 07 29
SOURCE_DEM_DATE: 1966 00 00
AGENCY: WESTERN MAPPING CENTER (WMC)
PRODUCER: UNDEFINED
PRODUCTION_SYSTEM: GIS/MAGIC
COMPRESSION: UNDEFINED
STANDARD_VERSION: 1996 12
METADATA_DATE: 1999 05 18
DATA_FILE_SIZE: 44264493
BYTE_COUNT: 5733
