FILENAME: O4610758.SES.1006794.tif
QUADRANGLE_NAME: BULL MOUNTAIN
QUADRANT: SE
WEST_LONGITUDE: -107 48 45.00000
EAST_LONGITUDE: -107 45 0.00000
NORTH_LATITUDE: 46 3 45.00000
SOUTH_LATITUDE: 46 0 0.00000
PRODUCTION_DATE: 1999 4 23
RASTER_ORDER: LEFT_RIGHT/TOP_BOTTOM
BAND_ORGANIZATION: SINGLE FILE
BAND_CONTENT: BLACK&WHITE
BAND_CONTENT: UNDEFINED
BAND_CONTENT: UNDEFINED
BITS_PER_PIXEL: 8
SAMPLES_AND_LINES: 5732 7716
HORIZONTAL_DATUM: NAD83
HORIZONTAL_COORDINATE_SYSTEM: UTM
COORDINATE_ZONE: 13
HORIZONTAL_UNITS: METERS
HORIZONTAL_RESOLUTION: 1.00000
SECONDARY_HORIZONTAL_DATUM: NAD27
XY_ORIGIN: 281873.00000 5105138.00000
SECONDARY_XY_ORIGIN: 281916.71500 5104920.45400
NATION: US
NATION: "SCIENCE
STATE: MT
NW_QUAD_CORNER_XY: 282470.08600 5104837.82200
NE_QUAD_CORNER_XY: 287303.94800 5104668.72200
SE_QUAD_CORNERY_XY: 287063.89100 5097724.78500
SW_QUAD_CORNER_XY: 282224.56500 5097893.89900
SECONDARY_NW_QUAD_XY: 282463.51300 5104619.92600
SECONDARY_NE_QUAD_XY: 287297.52200 5104450.82000
SECONDARY_SE_QUAD_XY: 287057.46600 5097506.92500
SECONDARY_SW_QUAD_XY: 282217.99400 5097676.04400
RMSE_XY: 1.40000
IMAGE_SOURCE: BLACK AND WHITE FILM
SOURCE_IMAGE_ID: NAPP 9131 284
SOURCE_IMAGE_DATE: 1996 07 29
SOURCE_IMAGE_ID: NAPP 9139 043
SOURCE_IMAGE_DATE: 1996 08 26
SOURCE_DEM_DATE: 1966 00 00
AGENCY: WESTERN MAPPING CENTER (WMC)
PRODUCER: UNDEFINED
PRODUCTION_SYSTEM: GIS/MAGIC
COMPRESSION: UNDEFINED
STANDARD_VERSION: 1996 12
METADATA_DATE: 1999 05 18
DATA_FILE_SIZE: 44233844
BYTE_COUNT: 5732
