FILENAME: O4610757.SWS.1006588.tif
QUADRANGLE_NAME: BIG MARYS ISLAND
QUADRANT: SW
WEST_LONGITUDE: -108 0 0.00000
EAST_LONGITUDE: -107 56 15.00000
NORTH_LATITUDE: 46 3 45.00000
SOUTH_LATITUDE: 46 0 0.00000
PRODUCTION_DATE: 1999 4 23
RASTER_ORDER: LEFT_RIGHT/TOP_BOTTOM
BAND_ORGANIZATION: SINGLE FILE
BAND_CONTENT: BLACK&WHITE
BAND_CONTENT: UNDEFINED
BAND_CONTENT: UNDEFINED
BITS_PER_PIXEL: 8
SAMPLES_AND_LINES: 5750 7728
HORIZONTAL_DATUM: NAD83
HORIZONTAL_COORDINATE_SYSTEM: UTM
COORDINATE_ZONE: 13
HORIZONTAL_UNITS: METERS
HORIZONTAL_RESOLUTION: 1.00000
SECONDARY_HORIZONTAL_DATUM: NAD27
XY_ORIGIN: 267354.00000 5105668.00000
SECONDARY_XY_ORIGIN: 267398.54800 5105451.47600
NATION: US
NATION: "SCIENCE
STATE: MT
NW_QUAD_CORNER_XY: 267968.55800 5105367.96200
NE_QUAD_CORNER_XY: 272802.39100 5105187.44200
SE_QUAD_CORNERY_XY: 272545.94000 5098243.54600
SW_QUAD_CORNER_XY: 267706.64100 5098424.07900
SECONDARY_NW_QUAD_XY: 267961.54700 5105150.08100
SECONDARY_NE_QUAD_XY: 272795.52600 5104969.55600
SECONDARY_SE_QUAD_XY: 272539.07700 5098025.70100
SECONDARY_SW_QUAD_XY: 267699.63200 5098206.24000
RMSE_XY: 1.30000
IMAGE_SOURCE: BLACK AND WHITE FILM
SOURCE_IMAGE_ID: NAPP 9151 017
SOURCE_IMAGE_DATE: 1996 09 11
SOURCE_IMAGE_ID: NAPP 9151 018
SOURCE_IMAGE_DATE: 1996 09 11
SOURCE_IMAGE_ID: NAPP 9160 171
SOURCE_IMAGE_DATE: 1997 09 23
SOURCE_DEM_DATE: 1966 00 00
AGENCY: WESTERN MAPPING CENTER (WMC)
PRODUCER: UNDEFINED
PRODUCTION_SYSTEM: GIS/MAGIC
COMPRESSION: UNDEFINED
STANDARD_VERSION: 1996 12
METADATA_DATE: 1999 05 18
DATA_FILE_SIZE: 44441750
BYTE_COUNT: 5750
