FILENAME: O4610756.SES.1010577.tif
QUADRANGLE_NAME: WOODS WATER
QUADRANT: SE
WEST_LONGITUDE: -107 3 45.00000
EAST_LONGITUDE: -107 0 0.00000
NORTH_LATITUDE: 46 11 15.00000
SOUTH_LATITUDE: 46 7 30.00000
PRODUCTION_DATE: 1999 5 24
RASTER_ORDER: LEFT_RIGHT/TOP_BOTTOM
BAND_ORGANIZATION: SINGLE FILE
BAND_CONTENT: BLACK&WHITE
BAND_CONTENT: UNDEFINED
BAND_CONTENT: UNDEFINED
BITS_PER_PIXEL: 8
SAMPLES_AND_LINES: 5653 7671
HORIZONTAL_DATUM: NAD83
HORIZONTAL_COORDINATE_SYSTEM: UTM
COORDINATE_ZONE: 13
HORIZONTAL_UNITS: METERS
HORIZONTAL_RESOLUTION: 1.00000
SECONDARY_HORIZONTAL_DATUM: NAD27
XY_ORIGIN: 340309.00000 5117249.00000
SECONDARY_XY_ORIGIN: 340351.13200 5117030.94500
NATION: US
NATION: "SCIENCE
STATE: MT
NW_QUAD_CORNER_XY: 340837.53700 5116948.01800
NE_QUAD_CORNER_XY: 345660.56200 5116824.58100
SE_QUAD_CORNERY_XY: 345485.66500 5109880.37700
SW_QUAD_CORNER_XY: 340657.17000 5110003.82500
SECONDARY_NW_QUAD_XY: 340832.71500 5116729.98700
SECONDARY_NE_QUAD_XY: 345655.88600 5116606.54600
SECONDARY_SE_QUAD_XY: 345480.99100 5109662.38200
SECONDARY_SW_QUAD_XY: 340652.35000 5109785.83400
RMSE_XY: 1.20000
IMAGE_SOURCE: BLACK AND WHITE FILM
SOURCE_IMAGE_ID: NAPP 9099 127
SOURCE_IMAGE_DATE: 1996 07 14
SOURCE_IMAGE_ID: NAPP 9099 125
SOURCE_IMAGE_DATE: 1996 07 14
SOURCE_IMAGE_ID: NAPP 9099 051
SOURCE_IMAGE_DATE: 1996 07 14
SOURCE_DEM_DATE: 1971 00 00
AGENCY: WESTERN MAPPING CENTER (WMC)
PRODUCER: UNDEFINED
PRODUCTION_SYSTEM: GIS/MAGIC
COMPRESSION: UNDEFINED
STANDARD_VERSION: 1996 12
METADATA_DATE: 1999 06 07
DATA_FILE_SIZE: 43369816
BYTE_COUNT: 5653
