FILENAME: O4610755.NES.1010563.tif
QUADRANGLE_NAME: SCRAPER COULEE
QUADRANT: NE
WEST_LONGITUDE: -107 11 15.00000
EAST_LONGITUDE: -107 7 30.00000
NORTH_LATITUDE: 46 15 0.00000
SOUTH_LATITUDE: 46 11 15.00000
PRODUCTION_DATE: 1999 5 24
RASTER_ORDER: LEFT_RIGHT/TOP_BOTTOM
BAND_ORGANIZATION: SINGLE FILE
BAND_CONTENT: BLACK&WHITE
BAND_CONTENT: UNDEFINED
BAND_CONTENT: UNDEFINED
BITS_PER_PIXEL: 8
SAMPLES_AND_LINES: 5659 7678
HORIZONTAL_DATUM: NAD83
HORIZONTAL_COORDINATE_SYSTEM: UTM
COORDINATE_ZONE: 13
HORIZONTAL_UNITS: METERS
HORIZONTAL_RESOLUTION: 1.00000
SECONDARY_HORIZONTAL_DATUM: NAD27
XY_ORIGIN: 330843.00000 5124451.00000
SECONDARY_XY_ORIGIN: 330885.34300 5124232.94800
NATION: US
NATION: "SCIENCE
STATE: MT
NW_QUAD_CORNER_XY: 331383.02000 5124150.53200
NE_QUAD_CORNER_XY: 336200.55300 5124019.50400
SE_QUAD_CORNERY_XY: 336014.52000 5117075.25600
SW_QUAD_CORNER_XY: 331191.51000 5117206.29600
SECONDARY_NW_QUAD_XY: 331377.90600 5123932.47000
SECONDARY_NE_QUAD_XY: 336195.58400 5123801.43800
SECONDARY_SE_QUAD_XY: 336009.55200 5116857.22900
SECONDARY_SW_QUAD_XY: 331186.39700 5116988.27300
RMSE_XY: 1.50000
IMAGE_SOURCE: BLACK AND WHITE FILM
SOURCE_IMAGE_ID: NAPP 9100 038
SOURCE_IMAGE_DATE: 1996 07 14
SOURCE_IMAGE_ID: NAPP 9100 036
SOURCE_IMAGE_DATE: 1996 07 14
SOURCE_DEM_DATE: 1971 00 00
AGENCY: WESTERN MAPPING CENTER (WMC)
PRODUCER: UNDEFINED
PRODUCTION_SYSTEM: GIS/MAGIC
COMPRESSION: UNDEFINED
STANDARD_VERSION: 1996 12
METADATA_DATE: 1999 06 07
DATA_FILE_SIZE: 43455461
BYTE_COUNT: 5659
