FILENAME: O4610755.SWS.1010566.tif
QUADRANGLE_NAME: SCRAPER COULEE
QUADRANT: SW
WEST_LONGITUDE: -107 15 0.00000
EAST_LONGITUDE: -107 11 15.00000
NORTH_LATITUDE: 46 11 15.00000
SOUTH_LATITUDE: 46 7 30.00000
PRODUCTION_DATE: 1999 5 24
RASTER_ORDER: LEFT_RIGHT/TOP_BOTTOM
BAND_ORGANIZATION: SINGLE FILE
BAND_CONTENT: BLACK&WHITE
BAND_CONTENT: UNDEFINED
BAND_CONTENT: UNDEFINED
BITS_PER_PIXEL: 8
SAMPLES_AND_LINES: 5670 7682
HORIZONTAL_DATUM: NAD83
HORIZONTAL_COORDINATE_SYSTEM: UTM
COORDINATE_ZONE: 13
HORIZONTAL_UNITS: METERS
HORIZONTAL_RESOLUTION: 1.00000
SECONDARY_HORIZONTAL_DATUM: NAD27
XY_ORIGIN: 325823.00000 5117642.00000
SECONDARY_XY_ORIGIN: 325865.45900 5117423.96900
NATION: US
NATION: "SCIENCE
STATE: MT
NW_QUAD_CORNER_XY: 326368.50900 5117341.13700
NE_QUAD_CORNER_XY: 331191.51000 5117206.29600
SE_QUAD_CORNERY_XY: 331000.20300 5110262.12500
SW_QUAD_CORNER_XY: 326171.73100 5110396.97800
SECONDARY_NW_QUAD_XY: 326363.25000 5117123.11800
SECONDARY_NE_QUAD_XY: 331186.39700 5116988.27300
SECONDARY_SE_QUAD_XY: 330995.09000 5110044.14100
SECONDARY_SW_QUAD_XY: 326166.47200 5110178.99900
RMSE_XY: 1.70000
IMAGE_SOURCE: BLACK AND WHITE FILM
SOURCE_IMAGE_ID: NAPP 9098 050
SOURCE_IMAGE_DATE: 1996 07 14
SOURCE_IMAGE_ID: NAPP 9126 032
SOURCE_IMAGE_DATE: 1996 07 14
SOURCE_DEM_DATE: 1971 00 00
AGENCY: WESTERN MAPPING CENTER (WMC)
PRODUCER: UNDEFINED
PRODUCTION_SYSTEM: GIS/MAGIC
COMPRESSION: UNDEFINED
STANDARD_VERSION: 1996 12
METADATA_DATE: 1999 06 07
DATA_FILE_SIZE: 43562610
BYTE_COUNT: 5670
