FILENAME: O4610754.SWS.1010562.tif
QUADRANGLE_NAME: ELDERING RANCH
QUADRANT: SW
WEST_LONGITUDE: -107 22 30.00000
EAST_LONGITUDE: -107 18 45.00000
NORTH_LATITUDE: 46 11 15.00000
SOUTH_LATITUDE: 46 7 30.00000
PRODUCTION_DATE: 1999 5 24
RASTER_ORDER: LEFT_RIGHT/TOP_BOTTOM
BAND_ORGANIZATION: SINGLE FILE
BAND_CONTENT: BLACK&WHITE
BAND_CONTENT: UNDEFINED
BAND_CONTENT: UNDEFINED
BITS_PER_PIXEL: 8
SAMPLES_AND_LINES: 5682 7690
HORIZONTAL_DATUM: NAD83
HORIZONTAL_COORDINATE_SYSTEM: UTM
COORDINATE_ZONE: 13
HORIZONTAL_UNITS: METERS
HORIZONTAL_RESOLUTION: 1.00000
SECONDARY_HORIZONTAL_DATUM: NAD27
XY_ORIGIN: 316165.00000 5117923.00000
SECONDARY_XY_ORIGIN: 316207.56500 5117704.98500
NATION: US
NATION: "SCIENCE
STATE: MT
NW_QUAD_CORNER_XY: 316722.53300 5117622.22700
NE_QUAD_CORNER_XY: 321545.51700 5117479.78100
SE_QUAD_CORNERY_XY: 321343.26600 5110535.63300
SW_QUAD_CORNER_XY: 316514.81000 5110678.09100
SECONDARY_NW_QUAD_XY: 316716.98100 5117404.21600
SECONDARY_NE_QUAD_XY: 321540.11100 5117261.76600
SECONDARY_SE_QUAD_XY: 321337.86100 5110317.65800
SECONDARY_SW_QUAD_XY: 316509.25900 5110460.12100
RMSE_XY: 1.80000
IMAGE_SOURCE: BLACK AND WHITE FILM
SOURCE_IMAGE_ID: NAPP 9133 075
SOURCE_IMAGE_DATE: 1996 08 08
SOURCE_IMAGE_ID: NAPP 9133 148
SOURCE_IMAGE_DATE: 1996 08 08
SOURCE_IMAGE_ID: NAPP 9133 147
SOURCE_IMAGE_DATE: 1996 08 08
SOURCE_IMAGE_ID: NAPP 9133 074
SOURCE_IMAGE_DATE: 1996 08 08
SOURCE_IMAGE_ID: NAPP 9133 077
SOURCE_IMAGE_DATE: 1996 08 08
SOURCE_DEM_DATE: 1956 00 00
AGENCY: WESTERN MAPPING CENTER (WMC)
PRODUCER: UNDEFINED
PRODUCTION_SYSTEM: GIS/MAGIC
COMPRESSION: UNDEFINED
STANDARD_VERSION: 1996 12
METADATA_DATE: 1999 06 07
DATA_FILE_SIZE: 43700262
BYTE_COUNT: 5682
