FILENAME: O4610753.NWS.1010556.tif
QUADRANGLE_NAME: BIGHORN
QUADRANT: NW
WEST_LONGITUDE: -107 30 0.00000
EAST_LONGITUDE: -107 26 15.00000
NORTH_LATITUDE: 46 15 0.00000
SOUTH_LATITUDE: 46 11 15.00000
PRODUCTION_DATE: 1999 5 24
RASTER_ORDER: LEFT_RIGHT/TOP_BOTTOM
BAND_ORGANIZATION: SINGLE FILE
BAND_CONTENT: BLACK&WHITE
BAND_CONTENT: UNDEFINED
BAND_CONTENT: UNDEFINED
BITS_PER_PIXEL: 8
SAMPLES_AND_LINES: 5687 7697
HORIZONTAL_DATUM: NAD83
HORIZONTAL_COORDINATE_SYSTEM: UTM
COORDINATE_ZONE: 13
HORIZONTAL_UNITS: METERS
HORIZONTAL_RESOLUTION: 1.00000
SECONDARY_HORIZONTAL_DATUM: NAD27
XY_ORIGIN: 306727.00000 5125163.00000
SECONDARY_XY_ORIGIN: 306769.69000 5124945.01600
NATION: US
NATION: "SCIENCE
STATE: MT
NW_QUAD_CORNER_XY: 307295.49100 5124862.69800
NE_QUAD_CORNER_XY: 312112.97800 5124712.66000
SE_QUAD_CORNERY_XY: 311899.55800 5117768.47500
SW_QUAD_CORNER_XY: 307076.59200 5117918.52700
SECONDARY_NW_QUAD_XY: 307289.64500 5124644.65800
SECONDARY_NE_QUAD_XY: 312107.27900 5124494.61600
SECONDARY_SE_QUAD_XY: 311893.86000 5117550.46900
SECONDARY_SW_QUAD_XY: 307070.74700 5117700.52600
RMSE_XY: 0.90000
IMAGE_SOURCE: BLACK AND WHITE FILM
SOURCE_IMAGE_ID: NAPP 9133 145
SOURCE_IMAGE_DATE: 1996 08 08
SOURCE_IMAGE_ID: NAPP 9135 053
SOURCE_IMAGE_DATE: 1996 08 19
SOURCE_IMAGE_ID: NAPP 9133 222
SOURCE_IMAGE_DATE: 1996 08 08
SOURCE_IMAGE_ID: NAPP 9133 225
SOURCE_IMAGE_DATE: 1996 08 08
SOURCE_IMAGE_ID: NAPP 9133 226
SOURCE_IMAGE_DATE: 1996 08 08
SOURCE_DEM_DATE: 1956 00 00
AGENCY: WESTERN MAPPING CENTER (WMC)
PRODUCER: UNDEFINED
PRODUCTION_SYSTEM: GIS/MAGIC
COMPRESSION: UNDEFINED
STANDARD_VERSION: 1996 12
METADATA_DATE: 1999 06 07
DATA_FILE_SIZE: 43778526
BYTE_COUNT: 5687
