FILENAME: O4610753.SES.1010557.tif
QUADRANGLE_NAME: BIGHORN
QUADRANT: SE
WEST_LONGITUDE: -107 26 15.00000
EAST_LONGITUDE: -107 22 30.00000
NORTH_LATITUDE: 46 11 15.00000
SOUTH_LATITUDE: 46 7 30.00000
PRODUCTION_DATE: 1999 5 24
RASTER_ORDER: LEFT_RIGHT/TOP_BOTTOM
BAND_ORGANIZATION: SINGLE FILE
BAND_CONTENT: BLACK&WHITE
BAND_CONTENT: UNDEFINED
BAND_CONTENT: UNDEFINED
BITS_PER_PIXEL: 8
SAMPLES_AND_LINES: 5687 7693
HORIZONTAL_DATUM: NAD83
HORIZONTAL_COORDINATE_SYSTEM: UTM
COORDINATE_ZONE: 13
HORIZONTAL_UNITS: METERS
HORIZONTAL_RESOLUTION: 1.00000
SECONDARY_HORIZONTAL_DATUM: NAD27
XY_ORIGIN: 311337.00000 5118069.00000
SECONDARY_XY_ORIGIN: 311379.62300 5117850.99200
NATION: US
NATION: "SCIENCE
STATE: MT
NW_QUAD_CORNER_XY: 311899.55800 5117768.47500
NE_QUAD_CORNER_XY: 316722.53300 5117622.22700
SE_QUAD_CORNERY_XY: 316514.81000 5110678.09100
SW_QUAD_CORNER_XY: 311686.36300 5110824.35300
SECONDARY_NW_QUAD_XY: 311893.86000 5117550.46900
SECONDARY_NE_QUAD_XY: 316716.98100 5117404.21600
SECONDARY_SE_QUAD_XY: 316509.25900 5110460.12100
SECONDARY_SW_QUAD_XY: 311680.66600 5110606.38700
RMSE_XY: 2.80000
IMAGE_SOURCE: BLACK AND WHITE FILM
SOURCE_IMAGE_ID: NAPP 9133 147
SOURCE_IMAGE_DATE: 1996 08 08
SOURCE_IMAGE_ID: NAPP 9133 222
SOURCE_IMAGE_DATE: 1996 08 08
SOURCE_IMAGE_ID: NAPP 9133 148
SOURCE_IMAGE_DATE: 1996 08 08
SOURCE_DEM_DATE: 1956 00 00
AGENCY: WESTERN MAPPING CENTER (WMC)
PRODUCER: UNDEFINED
PRODUCTION_SYSTEM: GIS/MAGIC
COMPRESSION: UNDEFINED
STANDARD_VERSION: 1996 12
METADATA_DATE: 1999 06 07
DATA_FILE_SIZE: 43755778
BYTE_COUNT: 5687
