FILENAME: O4610752.NES.1008826.tif
QUADRANGLE_NAME: CUSTER
QUADRANT: NE
WEST_LONGITUDE: -107 33 45.00000
EAST_LONGITUDE: -107 30 0.00000
NORTH_LATITUDE: 46 15 0.00000
SOUTH_LATITUDE: 46 11 15.00000
PRODUCTION_DATE: 1999 4 23
RASTER_ORDER: LEFT_RIGHT/TOP_BOTTOM
BAND_ORGANIZATION: SINGLE FILE
BAND_CONTENT: BLACK&WHITE
BAND_CONTENT: UNDEFINED
BAND_CONTENT: UNDEFINED
BITS_PER_PIXEL: 8
SAMPLES_AND_LINES: 5694 7701
HORIZONTAL_DATUM: NAD83
HORIZONTAL_COORDINATE_SYSTEM: UTM
COORDINATE_ZONE: 13
HORIZONTAL_UNITS: METERS
HORIZONTAL_RESOLUTION: 1.00000
SECONDARY_HORIZONTAL_DATUM: NAD27
XY_ORIGIN: 301903.00000 5125317.00000
SECONDARY_XY_ORIGIN: 301945.87700 5125099.03600
NATION: US
NATION: "SCIENCE
STATE: MT
NW_QUAD_CORNER_XY: 302478.01400 5125016.53900
NE_QUAD_CORNER_XY: 307295.49100 5124862.69800
SE_QUAD_CORNERY_XY: 307076.59200 5117918.52700
SW_QUAD_CORNER_XY: 302253.63500 5118072.38200
SECONDARY_NW_QUAD_XY: 302472.02200 5124798.50400
SECONDARY_NE_QUAD_XY: 307289.64500 5124644.65800
SECONDARY_SE_QUAD_XY: 307070.74700 5117700.52600
SECONDARY_SW_QUAD_XY: 302247.64500 5117854.38500
RMSE_XY: 1.60000
IMAGE_SOURCE: BLACK AND WHITE FILM
SOURCE_IMAGE_ID: NAPP 9135 052
SOURCE_IMAGE_DATE: 1996 08 19
SOURCE_IMAGE_ID: NAPP 9135 131
SOURCE_IMAGE_DATE: 1996 08 19
SOURCE_DEM_DATE: 1956 00 00
AGENCY: WESTERN MAPPING CENTER (WMC)
PRODUCER: UNDEFINED
PRODUCTION_SYSTEM: GIS/MAGIC
COMPRESSION: UNDEFINED
STANDARD_VERSION: 1996 12
METADATA_DATE: 1999 06 02
DATA_FILE_SIZE: 43855188
BYTE_COUNT: 5694
