FILENAME: O4610752.SES.1008828.tif
QUADRANGLE_NAME: CUSTER
QUADRANT: SE
WEST_LONGITUDE: -107 33 45.00000
EAST_LONGITUDE: -107 30 0.00000
NORTH_LATITUDE: 46 11 15.00000
SOUTH_LATITUDE: 46 7 30.00000
PRODUCTION_DATE: 1999 4 23
RASTER_ORDER: LEFT_RIGHT/TOP_BOTTOM
BAND_ORGANIZATION: SINGLE FILE
BAND_CONTENT: BLACK&WHITE
BAND_CONTENT: UNDEFINED
BAND_CONTENT: UNDEFINED
BITS_PER_PIXEL: 8
SAMPLES_AND_LINES: 5699 7701
HORIZONTAL_DATUM: NAD83
HORIZONTAL_COORDINATE_SYSTEM: UTM
COORDINATE_ZONE: 13
HORIZONTAL_UNITS: METERS
HORIZONTAL_RESOLUTION: 1.00000
SECONDARY_HORIZONTAL_DATUM: NAD27
XY_ORIGIN: 301679.00000 5118373.00000
SECONDARY_XY_ORIGIN: 301721.87300 5118155.02200
NATION: US
NATION: "SCIENCE
STATE: MT
NW_QUAD_CORNER_XY: 302253.63500 5118072.38200
NE_QUAD_CORNER_XY: 307076.59200 5117918.52700
SE_QUAD_CORNERY_XY: 306857.92400 5110974.41700
SW_QUAD_CORNER_XY: 302029.49400 5111128.28600
SECONDARY_NW_QUAD_XY: 302247.64500 5117854.38500
SECONDARY_NE_QUAD_XY: 307070.74700 5117700.52600
SECONDARY_SE_QUAD_XY: 306852.08000 5110756.45600
SECONDARY_SW_QUAD_XY: 302023.50400 5110910.32900
RMSE_XY: 2.50000
IMAGE_SOURCE: BLACK AND WHITE FILM
SOURCE_IMAGE_ID: NAPP 9135 054
SOURCE_IMAGE_DATE: 1996 08 19
SOURCE_IMAGE_ID: NAPP 9135 128
SOURCE_IMAGE_DATE: 1996 08 19
SOURCE_IMAGE_ID: NAPP 9135 053
SOURCE_IMAGE_DATE: 1996 08 19
SOURCE_DEM_DATE: 1956 00 00
AGENCY: WESTERN MAPPING CENTER (WMC)
PRODUCER: UNDEFINED
PRODUCTION_SYSTEM: GIS/MAGIC
COMPRESSION: UNDEFINED
STANDARD_VERSION: 1996 12
METADATA_DATE: 1999 06 02
DATA_FILE_SIZE: 43893698
BYTE_COUNT: 5699
