FILENAME: O4610752.SWS.1008829.tif
QUADRANGLE_NAME: CUSTER
QUADRANT: SW
WEST_LONGITUDE: -107 37 30.00000
EAST_LONGITUDE: -107 33 45.00000
NORTH_LATITUDE: 46 11 15.00000
SOUTH_LATITUDE: 46 7 30.00000
PRODUCTION_DATE: 1999 4 23
RASTER_ORDER: LEFT_RIGHT/TOP_BOTTOM
BAND_ORGANIZATION: SINGLE FILE
BAND_CONTENT: BLACK&WHITE
BAND_CONTENT: UNDEFINED
BAND_CONTENT: UNDEFINED
BITS_PER_PIXEL: 8
SAMPLES_AND_LINES: 5705 7705
HORIZONTAL_DATUM: NAD83
HORIZONTAL_COORDINATE_SYSTEM: UTM
COORDINATE_ZONE: 13
HORIZONTAL_UNITS: METERS
HORIZONTAL_RESOLUTION: 1.00000
SECONDARY_HORIZONTAL_DATUM: NAD27
XY_ORIGIN: 296850.00000 5118531.00000
SECONDARY_XY_ORIGIN: 296893.04900 5118313.04000
NATION: US
NATION: "SCIENCE
STATE: MT
NW_QUAD_CORNER_XY: 297430.68800 5118230.04100
NE_QUAD_CORNER_XY: 302253.63500 5118072.38200
SE_QUAD_CORNERY_XY: 302029.49400 5111128.28600
SW_QUAD_CORNER_XY: 297201.07300 5111285.95800
SECONDARY_NW_QUAD_XY: 297424.55200 5118012.04900
SECONDARY_NE_QUAD_XY: 302247.64500 5117854.38500
SECONDARY_SE_QUAD_XY: 302023.50400 5110910.32900
SECONDARY_SW_QUAD_XY: 297194.93700 5111068.00600
RMSE_XY: 1.40000
IMAGE_SOURCE: BLACK AND WHITE FILM
SOURCE_IMAGE_ID: NAPP 9135 129
SOURCE_IMAGE_DATE: 1996 08 19
SOURCE_IMAGE_ID: NAPP 9135 128
SOURCE_IMAGE_DATE: 1996 08 19
SOURCE_DEM_DATE: 1956 00 00
AGENCY: WESTERN MAPPING CENTER (WMC)
PRODUCER: UNDEFINED
PRODUCTION_SYSTEM: GIS/MAGIC
COMPRESSION: UNDEFINED
STANDARD_VERSION: 1996 12
METADATA_DATE: 1999 06 02
DATA_FILE_SIZE: 43962730
BYTE_COUNT: 5705
