FILENAME: O4610751.NES.1006904.tif
QUADRANGLE_NAME: COAL BANK CREEK
QUADRANT: NE
WEST_LONGITUDE: -107 41 15.00000
EAST_LONGITUDE: -107 37 30.00000
NORTH_LATITUDE: 46 15 0.00000
SOUTH_LATITUDE: 46 11 15.00000
PRODUCTION_DATE: 1999 4 23
RASTER_ORDER: LEFT_RIGHT/TOP_BOTTOM
BAND_ORGANIZATION: SINGLE FILE
BAND_CONTENT: BLACK&WHITE
BAND_CONTENT: UNDEFINED
BAND_CONTENT: UNDEFINED
BITS_PER_PIXEL: 8
SAMPLES_AND_LINES: 5705 7708
HORIZONTAL_DATUM: NAD83
HORIZONTAL_COORDINATE_SYSTEM: UTM
COORDINATE_ZONE: 13
HORIZONTAL_UNITS: METERS
HORIZONTAL_RESOLUTION: 1.00000
SECONDARY_HORIZONTAL_DATUM: NAD27
XY_ORIGIN: 292257.00000 5125636.00000
SECONDARY_XY_ORIGIN: 292300.22000 5125418.06900
NATION: US
NATION: "SCIENCE
STATE: MT
NW_QUAD_CORNER_XY: 292843.09000 5125335.63200
NE_QUAD_CORNER_XY: 297660.54700 5125174.18400
SE_QUAD_CORNERY_XY: 297430.68800 5118230.04100
SW_QUAD_CORNER_XY: 292607.75100 5118391.50400
SECONDARY_NW_QUAD_XY: 292836.80600 5125117.60600
SECONDARY_NE_QUAD_XY: 297654.40900 5124956.15300
SECONDARY_SE_QUAD_XY: 297424.55200 5118012.04900
SECONDARY_SW_QUAD_XY: 292601.46800 5118173.51700
RMSE_XY: 1.60000
IMAGE_SOURCE: BLACK AND WHITE FILM
SOURCE_IMAGE_ID: NAPP 9135 146
SOURCE_IMAGE_DATE: 1996 08 19
SOURCE_DEM_DATE: 1956 00 00
AGENCY: WESTERN MAPPING CENTER (WMC)
PRODUCER: UNDEFINED
PRODUCTION_SYSTEM: GIS/MAGIC
COMPRESSION: UNDEFINED
STANDARD_VERSION: 1996 12
METADATA_DATE: 1999 05 18
DATA_FILE_SIZE: 43979845
BYTE_COUNT: 5705
