FILENAME: O4610750.NES.1006812.tif
QUADRANGLE_NAME: MUD BUTTE
QUADRANT: NE
WEST_LONGITUDE: -107 48 45.00000
EAST_LONGITUDE: -107 45 0.00000
NORTH_LATITUDE: 46 15 0.00000
SOUTH_LATITUDE: 46 11 15.00000
PRODUCTION_DATE: 1999 4 23
RASTER_ORDER: LEFT_RIGHT/TOP_BOTTOM
BAND_ORGANIZATION: SINGLE FILE
BAND_CONTENT: BLACK&WHITE
BAND_CONTENT: UNDEFINED
BAND_CONTENT: UNDEFINED
BITS_PER_PIXEL: 8
SAMPLES_AND_LINES: 5717 7716
HORIZONTAL_DATUM: NAD83
HORIZONTAL_COORDINATE_SYSTEM: UTM
COORDINATE_ZONE: 13
HORIZONTAL_UNITS: METERS
HORIZONTAL_RESOLUTION: 1.00000
SECONDARY_HORIZONTAL_DATUM: NAD27
XY_ORIGIN: 282610.00000 5125970.00000
SECONDARY_XY_ORIGIN: 282653.59800 5125752.32100
NATION: US
NATION: "SCIENCE
STATE: MT
NW_QUAD_CORNER_XY: 283208.20800 5125669.94100
NE_QUAD_CORNER_XY: 288025.64400 5125500.88400
SE_QUAD_CORNERY_XY: 287784.82400 5118556.77100
SW_QUAD_CORNER_XY: 282961.90800 5118725.84300
SECONDARY_NW_QUAD_XY: 283201.63200 5125451.92500
SECONDARY_NE_QUAD_XY: 288019.21300 5125282.86300
SECONDARY_SE_QUAD_XY: 287778.39500 5118338.78900
SECONDARY_SW_QUAD_XY: 282955.33300 5118507.86600
RMSE_XY: 1.30000
IMAGE_SOURCE: BLACK AND WHITE FILM
SOURCE_IMAGE_ID: NAPP 9131 278
SOURCE_IMAGE_DATE: 1996 07 29
SOURCE_DEM_DATE: 1973 00 00
AGENCY: WESTERN MAPPING CENTER (WMC)
PRODUCER: UNDEFINED
PRODUCTION_SYSTEM: GIS/MAGIC
COMPRESSION: UNDEFINED
STANDARD_VERSION: 1996 12
METADATA_DATE: 1999 05 18
DATA_FILE_SIZE: 44118089
BYTE_COUNT: 5717
