FILENAME: O4610748.NWS.1008609.tif
QUADRANGLE_NAME: SANDERS
QUADRANT: NW
WEST_LONGITUDE: -107 7 30.00000
EAST_LONGITUDE: -107 3 45.00000
NORTH_LATITUDE: 46 22 30.00000
SOUTH_LATITUDE: 46 18 45.00000
PRODUCTION_DATE: 1999 5 10
RASTER_ORDER: LEFT_RIGHT/TOP_BOTTOM
BAND_ORGANIZATION: SINGLE FILE
BAND_CONTENT: BLACK&WHITE
BAND_CONTENT: UNDEFINED
BAND_CONTENT: UNDEFINED
BITS_PER_PIXEL: 8
SAMPLES_AND_LINES: 5643 7675
HORIZONTAL_DATUM: NAD83
HORIZONTAL_COORDINATE_SYSTEM: UTM
COORDINATE_ZONE: 13
HORIZONTAL_UNITS: METERS
HORIZONTAL_RESOLUTION: 1.00000
SECONDARY_HORIZONTAL_DATUM: NAD27
XY_ORIGIN: 336038.00000 5138209.00000
SECONDARY_XY_ORIGIN: 336080.41800 5137990.84900
NATION: US
NATION: "SCIENCE
STATE: MT
NW_QUAD_CORNER_XY: 336573.20800 5137908.19800
NE_QUAD_CORNER_XY: 341379.77900 5137780.99600
SE_QUAD_CORNERY_XY: 341198.84200 5130836.60400
SW_QUAD_CORNER_XY: 336386.78300 5130963.81800
SECONDARY_NW_QUAD_XY: 336568.23700 5137690.05700
SECONDARY_NE_QUAD_XY: 341374.95500 5137562.85100
SECONDARY_SE_QUAD_XY: 341194.01800 5130618.49600
SECONDARY_SW_QUAD_XY: 336381.81300 5130745.71400
RMSE_XY: 0.80000
IMAGE_SOURCE: BLACK AND WHITE FILM
SOURCE_IMAGE_ID: NAPP 10764 057
SOURCE_IMAGE_DATE: 1997 09 20
SOURCE_IMAGE_ID: NAPP 9100 034
SOURCE_IMAGE_DATE: 1996 07 14
SOURCE_IMAGE_ID: NAPP 10764 055
SOURCE_IMAGE_DATE: 1997 09 20
SOURCE_DEM_DATE: 1956 00 00
AGENCY: WESTERN MAPPING CENTER (WMC)
PRODUCER: UNDEFINED
PRODUCTION_SYSTEM: GIS/MAGIC
COMPRESSION: UNDEFINED
STANDARD_VERSION: 1996 12
METADATA_DATE: 1999 05 24
DATA_FILE_SIZE: 43315668
BYTE_COUNT: 5643
