FILENAME: O4610748.SES.1008610.tif
QUADRANGLE_NAME: SANDERS
QUADRANT: SE
WEST_LONGITUDE: -107 3 45.00000
EAST_LONGITUDE: -107 0 0.00000
NORTH_LATITUDE: 46 18 45.00000
SOUTH_LATITUDE: 46 15 0.00000
PRODUCTION_DATE: 1999 5 10
RASTER_ORDER: LEFT_RIGHT/TOP_BOTTOM
BAND_ORGANIZATION: SINGLE FILE
BAND_CONTENT: BLACK&WHITE
BAND_CONTENT: UNDEFINED
BAND_CONTENT: UNDEFINED
BITS_PER_PIXEL: 8
SAMPLES_AND_LINES: 5642 7671
HORIZONTAL_DATUM: NAD83
HORIZONTAL_COORDINATE_SYSTEM: UTM
COORDINATE_ZONE: 13
HORIZONTAL_UNITS: METERS
HORIZONTAL_RESOLUTION: 1.00000
SECONDARY_HORIZONTAL_DATUM: NAD27
XY_ORIGIN: 340670.00000 5131137.00000
SECONDARY_XY_ORIGIN: 340712.22000 5130918.86900
NATION: US
NATION: "SCIENCE
STATE: MT
NW_QUAD_CORNER_XY: 341198.84200 5130836.60400
NE_QUAD_CORNER_XY: 346010.90900 5130713.19000
SE_QUAD_CORNERY_XY: 345835.64300 5123768.85200
SW_QUAD_CORNER_XY: 341018.09400 5123892.27800
SECONDARY_NW_QUAD_XY: 341194.01800 5130618.49600
SECONDARY_NE_QUAD_XY: 346006.23200 5130495.07800
SECONDARY_SE_QUAD_XY: 345830.96700 5123550.77800
SECONDARY_SW_QUAD_XY: 341013.27200 5123674.20800
RMSE_XY: 0.80000
IMAGE_SOURCE: BLACK AND WHITE FILM
SOURCE_IMAGE_ID: NAPP 9099 055
SOURCE_IMAGE_DATE: 1996 07 14
SOURCE_IMAGE_ID: NAPP 10764 055
SOURCE_IMAGE_DATE: 1997 09 20
SOURCE_IMAGE_ID: NAPP 10764 056
SOURCE_IMAGE_DATE: 1997 09 20
SOURCE_IMAGE_ID: NAPP 9099 125
SOURCE_IMAGE_DATE: 1996 07 14
SOURCE_IMAGE_ID: NAPP 9099 122
SOURCE_IMAGE_DATE: 1996 07 14
SOURCE_DEM_DATE: 1956 00 00
AGENCY: WESTERN MAPPING CENTER (WMC)
PRODUCER: UNDEFINED
PRODUCTION_SYSTEM: GIS/MAGIC
COMPRESSION: UNDEFINED
STANDARD_VERSION: 1996 12
METADATA_DATE: 1999 05 24
DATA_FILE_SIZE: 43285424
BYTE_COUNT: 5642
