FILENAME: O4610747.NES.1008572.tif
QUADRANGLE_NAME: HYSHAM
QUADRANT: NE
WEST_LONGITUDE: -107 11 15.00000
EAST_LONGITUDE: -107 7 30.00000
NORTH_LATITUDE: 46 22 30.00000
SOUTH_LATITUDE: 46 18 45.00000
PRODUCTION_DATE: 1999 5 10
RASTER_ORDER: LEFT_RIGHT/TOP_BOTTOM
BAND_ORGANIZATION: SINGLE FILE
BAND_CONTENT: BLACK&WHITE
BAND_CONTENT: UNDEFINED
BAND_CONTENT: UNDEFINED
BITS_PER_PIXEL: 8
SAMPLES_AND_LINES: 5649 7679
HORIZONTAL_DATUM: NAD83
HORIZONTAL_COORDINATE_SYSTEM: UTM
COORDINATE_ZONE: 13
HORIZONTAL_UNITS: METERS
HORIZONTAL_RESOLUTION: 1.00000
SECONDARY_HORIZONTAL_DATUM: NAD27
XY_ORIGIN: 331226.00000 5138340.00000
SECONDARY_XY_ORIGIN: 331268.53600 5138121.87100
NATION: US
NATION: "SCIENCE
STATE: MT
NW_QUAD_CORNER_XY: 331766.64600 5138039.20000
NE_QUAD_CORNER_XY: 336573.20800 5137908.19800
SE_QUAD_CORNERY_XY: 336386.78300 5130963.81800
SW_QUAD_CORNER_XY: 331574.73200 5131094.83300
SECONDARY_NW_QUAD_XY: 331761.52900 5137821.06300
SECONDARY_NE_QUAD_XY: 336568.23700 5137690.05700
SECONDARY_SE_QUAD_XY: 336381.81300 5130745.71400
SECONDARY_SW_QUAD_XY: 331569.61600 5130876.73300
RMSE_XY: 0.90000
IMAGE_SOURCE: BLACK AND WHITE FILM
SOURCE_IMAGE_ID: NAPP 9100 034
SOURCE_IMAGE_DATE: 1996 07 14
SOURCE_IMAGE_ID: NAPP 10765 007
SOURCE_IMAGE_DATE: 1997 09 23
SOURCE_IMAGE_ID: NAPP 9100 035
SOURCE_IMAGE_DATE: 1996 07 14
SOURCE_DEM_DATE: 1983 00 00
AGENCY: WESTERN MAPPING CENTER (WMC)
PRODUCER: UNDEFINED
PRODUCTION_SYSTEM: GIS/MAGIC
COMPRESSION: UNDEFINED
STANDARD_VERSION: 1996 12
METADATA_DATE: 1999 05 24
DATA_FILE_SIZE: 43384320
BYTE_COUNT: 5649
