FILENAME: O4610747.SES.1008574.tif
QUADRANGLE_NAME: HYSHAM
QUADRANT: SE
WEST_LONGITUDE: -107 11 15.00000
EAST_LONGITUDE: -107 7 30.00000
NORTH_LATITUDE: 46 18 45.00000
SOUTH_LATITUDE: 46 15 0.00000
PRODUCTION_DATE: 1999 5 24
RASTER_ORDER: LEFT_RIGHT/TOP_BOTTOM
BAND_ORGANIZATION: SINGLE FILE
BAND_CONTENT: BLACK&WHITE
BAND_CONTENT: UNDEFINED
BAND_CONTENT: UNDEFINED
BITS_PER_PIXEL: 8
SAMPLES_AND_LINES: 5654 7678
HORIZONTAL_DATUM: NAD83
HORIZONTAL_COORDINATE_SYSTEM: UTM
COORDINATE_ZONE: 13
HORIZONTAL_UNITS: METERS
HORIZONTAL_RESOLUTION: 1.00000
SECONDARY_HORIZONTAL_DATUM: NAD27
XY_ORIGIN: 331034.00000 5131395.00000
SECONDARY_XY_ORIGIN: 331076.43900 5131176.91000
NATION: US
NATION: "SCIENCE
STATE: MT
NW_QUAD_CORNER_XY: 331574.73200 5131094.83300
NE_QUAD_CORNER_XY: 336386.78300 5130963.81800
SE_QUAD_CORNERY_XY: 336200.55300 5124019.50400
SW_QUAD_CORNER_XY: 331383.02000 5124150.53200
SECONDARY_NW_QUAD_XY: 331569.61600 5130876.73300
SECONDARY_NE_QUAD_XY: 336381.81300 5130745.71400
SECONDARY_SE_QUAD_XY: 336195.58400 5123801.43800
SECONDARY_SW_QUAD_XY: 331377.90600 5123932.47000
RMSE_XY: 1.20000
IMAGE_SOURCE: BLACK AND WHITE FILM
SOURCE_IMAGE_ID: NAPP 9100 036
SOURCE_IMAGE_DATE: 1996 07 14
SOURCE_IMAGE_ID: NAPP 10765 006
SOURCE_IMAGE_DATE: 1997 09 23
SOURCE_IMAGE_ID: NAPP 9100 037
SOURCE_IMAGE_DATE: 1996 07 14
SOURCE_DEM_DATE: 1983 00 00
AGENCY: WESTERN MAPPING CENTER (WMC)
PRODUCER: UNDEFINED
PRODUCTION_SYSTEM: GIS/MAGIC
COMPRESSION: UNDEFINED
STANDARD_VERSION: 1996 12
METADATA_DATE: 1999 05 24
DATA_FILE_SIZE: 43417066
BYTE_COUNT: 5654
