FILENAME: O4610747.SWS.1008575.tif
QUADRANGLE_NAME: HYSHAM
QUADRANT: SW
WEST_LONGITUDE: -107 15 0.00000
EAST_LONGITUDE: -107 11 15.00000
NORTH_LATITUDE: 46 18 45.00000
SOUTH_LATITUDE: 46 15 0.00000
PRODUCTION_DATE: 1999 5 10
RASTER_ORDER: LEFT_RIGHT/TOP_BOTTOM
BAND_ORGANIZATION: SINGLE FILE
BAND_CONTENT: BLACK&WHITE
BAND_CONTENT: UNDEFINED
BAND_CONTENT: UNDEFINED
BITS_PER_PIXEL: 8
SAMPLES_AND_LINES: 5660 7682
HORIZONTAL_DATUM: NAD83
HORIZONTAL_COORDINATE_SYSTEM: UTM
COORDINATE_ZONE: 13
HORIZONTAL_UNITS: METERS
HORIZONTAL_RESOLUTION: 1.00000
SECONDARY_HORIZONTAL_DATUM: NAD27
XY_ORIGIN: 326216.00000 5131530.00000
SECONDARY_XY_ORIGIN: 326258.54900 5131311.93000
NATION: US
NATION: "SCIENCE
STATE: MT
NW_QUAD_CORNER_XY: 326762.69100 5131229.65000
NE_QUAD_CORNER_XY: 331574.73200 5131094.83300
SE_QUAD_CORNERY_XY: 331383.02000 5124150.53200
SW_QUAD_CORNER_XY: 326565.49600 5124285.36100
SECONDARY_NW_QUAD_XY: 326757.42900 5131011.55400
SECONDARY_NE_QUAD_XY: 331569.61600 5130876.73300
SECONDARY_SE_QUAD_XY: 331377.90600 5123932.47000
SECONDARY_SW_QUAD_XY: 326560.23500 5124067.30300
RMSE_XY: 1.40000
IMAGE_SOURCE: BLACK AND WHITE FILM
SOURCE_IMAGE_ID: NAPP 10765 006
SOURCE_IMAGE_DATE: 1997 09 23
SOURCE_IMAGE_ID: NAPP 9126 029
SOURCE_IMAGE_DATE: 1996 07 14
SOURCE_IMAGE_ID: NAPP 9126 027
SOURCE_IMAGE_DATE: 1996 07 14
SOURCE_IMAGE_ID: NAPP 9098 052
SOURCE_IMAGE_DATE: 1996 07 14
SOURCE_IMAGE_ID: NAPP 9100 036
SOURCE_IMAGE_DATE: 1996 07 14
SOURCE_DEM_DATE: 1983 00 00
AGENCY: WESTERN MAPPING CENTER (WMC)
PRODUCER: UNDEFINED
PRODUCTION_SYSTEM: GIS/MAGIC
COMPRESSION: UNDEFINED
STANDARD_VERSION: 1996 12
METADATA_DATE: 1999 05 24
DATA_FILE_SIZE: 43485780
BYTE_COUNT: 5660
