FILENAME: O4610746.NES.1009089.tif
QUADRANGLE_NAME: MYERS
QUADRANT: NE
WEST_LONGITUDE: -107 18 45.00000
EAST_LONGITUDE: -107 15 0.00000
NORTH_LATITUDE: 46 22 30.00000
SOUTH_LATITUDE: 46 18 45.00000
PRODUCTION_DATE: 1999 5 7
RASTER_ORDER: LEFT_RIGHT/TOP_BOTTOM
BAND_ORGANIZATION: SINGLE FILE
BAND_CONTENT: BLACK&WHITE
BAND_CONTENT: UNDEFINED
BAND_CONTENT: UNDEFINED
BITS_PER_PIXEL: 8
SAMPLES_AND_LINES: 5661 7686
HORIZONTAL_DATUM: NAD83
HORIZONTAL_COORDINATE_SYSTEM: UTM
COORDINATE_ZONE: 13
HORIZONTAL_UNITS: METERS
HORIZONTAL_RESOLUTION: 1.00000
SECONDARY_HORIZONTAL_DATUM: NAD27
XY_ORIGIN: 321601.00000 5138613.00000
SECONDARY_XY_ORIGIN: 321643.72000 5138394.92700
NATION: US
NATION: "SCIENCE
STATE: MT
NW_QUAD_CORNER_XY: 322153.54900 5138312.60600
NE_QUAD_CORNER_XY: 326960.09300 5138174.00300
SE_QUAD_CORNERY_XY: 326762.69100 5131229.65000
SW_QUAD_CORNER_XY: 321950.65900 5131368.26700
SECONDARY_NW_QUAD_XY: 322148.14000 5138094.47800
SECONDARY_NE_QUAD_XY: 326954.83000 5137955.87000
SECONDARY_SE_QUAD_XY: 326757.42900 5131011.55400
SECONDARY_SW_QUAD_XY: 321945.25000 5131150.17600
RMSE_XY: 1.30000
IMAGE_SOURCE: BLACK AND WHITE FILM
SOURCE_IMAGE_ID: NAPP 9126 026
SOURCE_IMAGE_DATE: 1996 07 14
SOURCE_IMAGE_ID: NAPP 9133 081
SOURCE_IMAGE_DATE: 1996 08 08
SOURCE_IMAGE_ID: NAPP 9126 027
SOURCE_IMAGE_DATE: 1996 07 14
SOURCE_DEM_DATE: 1980 00 00
AGENCY: WESTERN MAPPING CENTER (WMC)
PRODUCER: UNDEFINED
PRODUCTION_SYSTEM: GIS/MAGIC
COMPRESSION: UNDEFINED
STANDARD_VERSION: 1996 12
METADATA_DATE: 1999 05 24
DATA_FILE_SIZE: 43516107
BYTE_COUNT: 5661
