FILENAME: O4610745.NES.1009031.tif
QUADRANGLE_NAME: RANCHER CEMETERY
QUADRANT: NE
WEST_LONGITUDE: -107 26 15.00000
EAST_LONGITUDE: -107 22 30.00000
NORTH_LATITUDE: 46 22 30.00000
SOUTH_LATITUDE: 46 18 45.00000
PRODUCTION_DATE: 1999 5 7
RASTER_ORDER: LEFT_RIGHT/TOP_BOTTOM
BAND_ORGANIZATION: SINGLE FILE
BAND_CONTENT: BLACK&WHITE
BAND_CONTENT: UNDEFINED
BAND_CONTENT: UNDEFINED
BITS_PER_PIXEL: 8
SAMPLES_AND_LINES: 5672 7694
HORIZONTAL_DATUM: NAD83
HORIZONTAL_COORDINATE_SYSTEM: UTM
COORDINATE_ZONE: 13
HORIZONTAL_UNITS: METERS
HORIZONTAL_RESOLUTION: 1.00000
SECONDARY_HORIZONTAL_DATUM: NAD27
XY_ORIGIN: 311977.00000 5138902.00000
SECONDARY_XY_ORIGIN: 312019.86000 5138683.99700
NATION: US
NATION: "SCIENCE
STATE: MT
NW_QUAD_CORNER_XY: 312540.49300 5138601.21800
NE_QUAD_CORNER_XY: 317347.01600 5138455.01100
SE_QUAD_CORNERY_XY: 317138.63600 5131510.68700
SW_QUAD_CORNER_XY: 312326.62300 5131656.90800
SECONDARY_NW_QUAD_XY: 312534.79100 5138383.09800
SECONDARY_NE_QUAD_XY: 317341.46100 5138236.88700
SECONDARY_SE_QUAD_XY: 317133.08200 5131292.59900
SECONDARY_SW_QUAD_XY: 312320.92300 5131438.82500
RMSE_XY: 1.10000
IMAGE_SOURCE: BLACK AND WHITE FILM
SOURCE_IMAGE_ID: NAPP 9133 141
SOURCE_IMAGE_DATE: 1996 08 08
SOURCE_IMAGE_ID: NAPP 9133 228
SOURCE_IMAGE_DATE: 1996 08 08
SOURCE_IMAGE_ID: NAPP 9133 143
SOURCE_IMAGE_DATE: 1996 08 08
SOURCE_IMAGE_ID: NAPP 9133 142
SOURCE_IMAGE_DATE: 1996 08 08
SOURCE_DEM_DATE: 1956 00 00
AGENCY: WESTERN MAPPING CENTER (WMC)
PRODUCER: UNDEFINED
PRODUCTION_SYSTEM: GIS/MAGIC
COMPRESSION: UNDEFINED
STANDARD_VERSION: 1996 12
METADATA_DATE: 1999 05 24
DATA_FILE_SIZE: 43646040
BYTE_COUNT: 5672
