FILENAME: O4610743.NES.1008978.tif
QUADRANGLE_NAME: MEXICAN BUTTES
QUADRANT: NE
WEST_LONGITUDE: -107 41 15.00000
EAST_LONGITUDE: -107 37 30.00000
NORTH_LATITUDE: 46 22 30.00000
SOUTH_LATITUDE: 46 18 45.00000
PRODUCTION_DATE: 1999 5 7
RASTER_ORDER: LEFT_RIGHT/TOP_BOTTOM
BAND_ORGANIZATION: SINGLE FILE
BAND_CONTENT: BLACK&WHITE
BAND_CONTENT: UNDEFINED
BAND_CONTENT: UNDEFINED
BITS_PER_PIXEL: 8
SAMPLES_AND_LINES: 5694 7709
HORIZONTAL_DATUM: NAD83
HORIZONTAL_COORDINATE_SYSTEM: UTM
COORDINATE_ZONE: 13
HORIZONTAL_UNITS: METERS
HORIZONTAL_RESOLUTION: 1.00000
SECONDARY_HORIZONTAL_DATUM: NAD27
XY_ORIGIN: 292728.00000 5139525.00000
SECONDARY_XY_ORIGIN: 292771.41500 5139307.05800
NATION: US
NATION: "SCIENCE
STATE: MT
NW_QUAD_CORNER_XY: 293314.51000 5139224.06700
NE_QUAD_CORNER_XY: 298120.98900 5139062.65100
SE_QUAD_CORNERY_XY: 297890.64700 5132118.38700
SW_QUAD_CORNER_XY: 293078.67600 5132279.82000
SECONDARY_NW_QUAD_XY: 293308.22300 5139005.96600
SECONDARY_NE_QUAD_XY: 298114.84900 5138844.54400
SECONDARY_SE_QUAD_XY: 297884.50800 5131900.31800
SECONDARY_SW_QUAD_XY: 293072.39100 5132061.75600
RMSE_XY: 1.90000
IMAGE_SOURCE: BLACK AND WHITE FILM
SOURCE_IMAGE_ID: NAPP 9135 142
SOURCE_IMAGE_DATE: 1996 08 19
SOURCE_IMAGE_ID: NAPP 9139 033
SOURCE_IMAGE_DATE: 1996 08 26
SOURCE_IMAGE_ID: NAPP 9135 144
SOURCE_IMAGE_DATE: 1996 08 19
SOURCE_IMAGE_ID: NAPP 9135 143
SOURCE_IMAGE_DATE: 1996 08 19
SOURCE_IMAGE_ID: NAPP 9131 146
SOURCE_IMAGE_DATE: 1996 07 29
SOURCE_DEM_DATE: 1973 00 00
AGENCY: WESTERN MAPPING CENTER (WMC)
PRODUCER: UNDEFINED
PRODUCTION_SYSTEM: GIS/MAGIC
COMPRESSION: UNDEFINED
STANDARD_VERSION: 1996 12
METADATA_DATE: 1999 05 24
DATA_FILE_SIZE: 43900740
BYTE_COUNT: 5694
