FILENAME: O4610742.SES.1008880.tif
QUADRANGLE_NAME: MAILBOX HILL
QUADRANT: SE
WEST_LONGITUDE: -107 48 45.00000
EAST_LONGITUDE: -107 45 0.00000
NORTH_LATITUDE: 46 18 45.00000
SOUTH_LATITUDE: 46 15 0.00000
PRODUCTION_DATE: 1999 5 7
RASTER_ORDER: LEFT_RIGHT/TOP_BOTTOM
BAND_ORGANIZATION: SINGLE FILE
BAND_CONTENT: BLACK&WHITE
BAND_CONTENT: UNDEFINED
BAND_CONTENT: UNDEFINED
BITS_PER_PIXEL: 8
SAMPLES_AND_LINES: 5711 7717
HORIZONTAL_DATUM: NAD83
HORIZONTAL_COORDINATE_SYSTEM: UTM
COORDINATE_ZONE: 13
HORIZONTAL_UNITS: METERS
HORIZONTAL_RESOLUTION: 1.00000
SECONDARY_HORIZONTAL_DATUM: NAD27
XY_ORIGIN: 282857.00000 5132915.00000
SECONDARY_XY_ORIGIN: 282900.65900 5132697.27500
NATION: US
NATION: "SCIENCE
STATE: MT
NW_QUAD_CORNER_XY: 283454.76800 5132614.09600
NE_QUAD_CORNER_XY: 288266.71700 5132445.05600
SE_QUAD_CORNERY_XY: 288025.64400 5125500.88400
SW_QUAD_CORNER_XY: 283208.20800 5125669.94100
SECONDARY_NW_QUAD_XY: 283448.19100 5132396.04200
SECONDARY_NE_QUAD_XY: 288260.28500 5132226.99700
SECONDARY_SE_QUAD_XY: 288019.21300 5125282.86300
SECONDARY_SW_QUAD_XY: 283201.63200 5125451.92500
RMSE_XY: 0.80000
IMAGE_SOURCE: BLACK AND WHITE FILM
SOURCE_IMAGE_ID: NAPP 9131 276
SOURCE_IMAGE_DATE: 1996 07 29
SOURCE_IMAGE_ID: NAPP 9131 278
SOURCE_IMAGE_DATE: 1996 07 29
SOURCE_IMAGE_ID: NAPP 9131 277
SOURCE_IMAGE_DATE: 1996 07 29
SOURCE_IMAGE_ID: NAPP 9131 274
SOURCE_IMAGE_DATE: 1996 07 29
SOURCE_DEM_DATE: 1973 00 00
AGENCY: WESTERN MAPPING CENTER (WMC)
PRODUCER: UNDEFINED
PRODUCTION_SYSTEM: GIS/MAGIC
COMPRESSION: UNDEFINED
STANDARD_VERSION: 1996 12
METADATA_DATE: 1999 05 24
DATA_FILE_SIZE: 44077498
BYTE_COUNT: 5711
