FILENAME: O4610742.SWS.1008881.tif
QUADRANGLE_NAME: MAILBOX HILL
QUADRANT: SW
WEST_LONGITUDE: -107 52 30.00000
EAST_LONGITUDE: -107 48 45.00000
NORTH_LATITUDE: 46 18 45.00000
SOUTH_LATITUDE: 46 15 0.00000
PRODUCTION_DATE: 1999 5 7
RASTER_ORDER: LEFT_RIGHT/TOP_BOTTOM
BAND_ORGANIZATION: SINGLE FILE
BAND_CONTENT: BLACK&WHITE
BAND_CONTENT: UNDEFINED
BAND_CONTENT: UNDEFINED
BITS_PER_PIXEL: 8
SAMPLES_AND_LINES: 5717 7720
HORIZONTAL_DATUM: NAD83
HORIZONTAL_COORDINATE_SYSTEM: UTM
COORDINATE_ZONE: 13
HORIZONTAL_UNITS: METERS
HORIZONTAL_RESOLUTION: 1.00000
SECONDARY_HORIZONTAL_DATUM: NAD27
XY_ORIGIN: 278039.00000 5133087.00000
SECONDARY_XY_ORIGIN: 278082.82600 5132869.45000
NATION: US
NATION: "SCIENCE
STATE: MT
NW_QUAD_CORNER_XY: 278642.83200 5132786.94100
NE_QUAD_CORNER_XY: 283454.76800 5132614.09600
SE_QUAD_CORNERY_XY: 283208.20800 5125669.94100
SW_QUAD_CORNER_XY: 278390.78400 5125842.80200
SECONDARY_NW_QUAD_XY: 278636.10800 5132568.89200
SECONDARY_NE_QUAD_XY: 283448.19100 5132396.04200
SECONDARY_SE_QUAD_XY: 283201.63200 5125451.92500
SECONDARY_SW_QUAD_XY: 278384.06200 5125624.79200
RMSE_XY: 1.20000
IMAGE_SOURCE: BLACK AND WHITE FILM
SOURCE_IMAGE_ID: NAPP 9132 032
SOURCE_IMAGE_DATE: 1996 07 29
SOURCE_IMAGE_ID: NAPP 9131 276
SOURCE_IMAGE_DATE: 1996 07 29
SOURCE_DEM_DATE: 1973 00 00
AGENCY: WESTERN MAPPING CENTER (WMC)
PRODUCER: UNDEFINED
PRODUCTION_SYSTEM: GIS/MAGIC
COMPRESSION: UNDEFINED
STANDARD_VERSION: 1996 12
METADATA_DATE: 1999 05 24
DATA_FILE_SIZE: 44140957
BYTE_COUNT: 5717
