FILENAME: O4610741.SWS.1008822.tif
QUADRANGLE_NAME: PINE VIEW
QUADRANT: SW
WEST_LONGITUDE: -108 0 0.00000
EAST_LONGITUDE: -107 56 15.00000
NORTH_LATITUDE: 46 18 45.00000
SOUTH_LATITUDE: 46 15 0.00000
PRODUCTION_DATE: 1999 5 7
RASTER_ORDER: LEFT_RIGHT/TOP_BOTTOM
BAND_ORGANIZATION: SINGLE FILE
BAND_CONTENT: BLACK&WHITE
BAND_CONTENT: UNDEFINED
BAND_CONTENT: UNDEFINED
BITS_PER_PIXEL: 8
SAMPLES_AND_LINES: 5729 7729
HORIZONTAL_DATUM: NAD83
HORIZONTAL_COORDINATE_SYSTEM: UTM
COORDINATE_ZONE: 13
HORIZONTAL_UNITS: METERS
HORIZONTAL_RESOLUTION: 1.00000
SECONDARY_HORIZONTAL_DATUM: NAD27
XY_ORIGIN: 268403.00000 5133445.00000
SECONDARY_XY_ORIGIN: 268447.16200 5133227.79700
NATION: US
NATION: "SCIENCE
STATE: MT
NW_QUAD_CORNER_XY: 269018.99600 5133144.04500
NE_QUAD_CORNER_XY: 273830.90800 5132963.59100
SE_QUAD_CORNERY_XY: 273573.37200 5126019.46900
SW_QUAD_CORNER_XY: 268755.97100 5126199.94100
SECONDARY_NW_QUAD_XY: 269011.97900 5132926.00800
SECONDARY_NE_QUAD_XY: 273824.03700 5132745.54700
SECONDARY_SE_QUAD_XY: 273566.50300 5125801.46400
SECONDARY_SW_QUAD_XY: 268748.95600 5125981.94200
RMSE_XY: 1.40000
IMAGE_SOURCE: BLACK AND WHITE FILM
SOURCE_IMAGE_ID: NAPP 9151 009
SOURCE_IMAGE_DATE: 1996 09 11
SOURCE_IMAGE_ID: NAPP 9151 010
SOURCE_IMAGE_DATE: 1996 09 11
SOURCE_IMAGE_ID: NAPP 9151 007
SOURCE_IMAGE_DATE: 1996 09 11
SOURCE_DEM_DATE: 1973 00 00
AGENCY: WESTERN MAPPING CENTER (WMC)
PRODUCER: UNDEFINED
PRODUCTION_SYSTEM: GIS/MAGIC
COMPRESSION: UNDEFINED
STANDARD_VERSION: 1996 12
METADATA_DATE: 1999 05 24
DATA_FILE_SIZE: 44285170
BYTE_COUNT: 5729
