FILENAME: O4610740.SES.1008606.tif
QUADRANGLE_NAME: VANANDA
QUADRANT: SE
WEST_LONGITUDE: -107 3 45.00000
EAST_LONGITUDE: -107 0 0.00000
NORTH_LATITUDE: 46 26 15.00000
SOUTH_LATITUDE: 46 22 30.00000
PRODUCTION_DATE: 1999 5 10
RASTER_ORDER: LEFT_RIGHT/TOP_BOTTOM
BAND_ORGANIZATION: SINGLE FILE
BAND_CONTENT: BLACK&WHITE
BAND_CONTENT: UNDEFINED
BAND_CONTENT: UNDEFINED
BITS_PER_PIXEL: 8
SAMPLES_AND_LINES: 5632 7671
HORIZONTAL_DATUM: NAD83
HORIZONTAL_COORDINATE_SYSTEM: UTM
COORDINATE_ZONE: 13
HORIZONTAL_UNITS: METERS
HORIZONTAL_RESOLUTION: 1.00000
SECONDARY_HORIZONTAL_DATUM: NAD27
XY_ORIGIN: 341031.00000 5145026.00000
SECONDARY_XY_ORIGIN: 341073.38000 5144807.78400
NATION: US
NATION: "SCIENCE
STATE: MT
NW_QUAD_CORNER_XY: 341560.90700 5144725.45500
NE_QUAD_CORNER_XY: 346361.99500 5144602.06600
SE_QUAD_CORNERY_XY: 346186.36000 5137657.59500
SW_QUAD_CORNER_XY: 341379.77900 5137780.99600
SECONDARY_NW_QUAD_XY: 341556.08200 5144507.27400
SECONDARY_NE_QUAD_XY: 346357.31600 5144383.88100
SECONDARY_SE_QUAD_XY: 346181.68200 5137439.44600
SECONDARY_SW_QUAD_XY: 341374.95500 5137562.85100
RMSE_XY: 1.10000
IMAGE_SOURCE: BLACK AND WHITE FILM
SOURCE_IMAGE_ID: NAPP 9099 119
SOURCE_IMAGE_DATE: 1996 07 14
SOURCE_DEM_DATE: 1956 00 00
AGENCY: WESTERN MAPPING CENTER (WMC)
PRODUCER: UNDEFINED
PRODUCTION_SYSTEM: GIS/MAGIC
COMPRESSION: UNDEFINED
STANDARD_VERSION: 1996 12
METADATA_DATE: 1999 05 24
DATA_FILE_SIZE: 43208704
BYTE_COUNT: 5632
