FILENAME: O4610739.NWS.1008597.tif
QUADRANGLE_NAME: AHLES
QUADRANT: NW
WEST_LONGITUDE: -107 15 0.00000
EAST_LONGITUDE: -107 11 15.00000
NORTH_LATITUDE: 46 30 0.00000
SOUTH_LATITUDE: 46 26 15.00000
PRODUCTION_DATE: 1999 5 10
RASTER_ORDER: LEFT_RIGHT/TOP_BOTTOM
BAND_ORGANIZATION: SINGLE FILE
BAND_CONTENT: BLACK&WHITE
BAND_CONTENT: UNDEFINED
BAND_CONTENT: UNDEFINED
BITS_PER_PIXEL: 8
SAMPLES_AND_LINES: 5645 7682
HORIZONTAL_DATUM: NAD83
HORIZONTAL_COORDINATE_SYSTEM: UTM
COORDINATE_ZONE: 13
HORIZONTAL_UNITS: METERS
HORIZONTAL_RESOLUTION: 1.00000
SECONDARY_HORIZONTAL_DATUM: NAD27
XY_ORIGIN: 326808.00000 5152363.00000
SECONDARY_XY_ORIGIN: 326850.86100 5152144.82200
NATION: US
NATION: "SCIENCE
STATE: MT
NW_QUAD_CORNER_XY: 327355.51800 5152062.90300
NE_QUAD_CORNER_XY: 332151.07600 5151928.12900
SE_QUAD_CORNERY_XY: 331958.76000 5144983.63200
SW_QUAD_CORNER_XY: 327157.70200 5145118.42000
SECONDARY_NW_QUAD_XY: 327350.25300 5151844.69700
SECONDARY_NE_QUAD_XY: 332145.95800 5151709.92000
SECONDARY_SE_QUAD_XY: 331953.64300 5144765.45800
SECONDARY_SW_QUAD_XY: 327152.43800 5144900.25100
RMSE_XY: 0.80000
IMAGE_SOURCE: BLACK AND WHITE FILM
SOURCE_IMAGE_ID: NAPP 10765 012
SOURCE_IMAGE_DATE: 1997 09 23
SOURCE_IMAGE_ID: NAPP 10765 014
SOURCE_IMAGE_DATE: 1997 09 23
SOURCE_DEM_DATE: 1956 00 00
AGENCY: WESTERN MAPPING CENTER (WMC)
PRODUCER: UNDEFINED
PRODUCTION_SYSTEM: GIS/MAGIC
COMPRESSION: UNDEFINED
STANDARD_VERSION: 1996 12
METADATA_DATE: 1999 05 24
DATA_FILE_SIZE: 43370535
BYTE_COUNT: 5645
