FILENAME: O4610739.SES.1008598.tif
QUADRANGLE_NAME: AHLES
QUADRANT: SE
WEST_LONGITUDE: -107 11 15.00000
EAST_LONGITUDE: -107 7 30.00000
NORTH_LATITUDE: 46 26 15.00000
SOUTH_LATITUDE: 46 22 30.00000
PRODUCTION_DATE: 1999 5 10
RASTER_ORDER: LEFT_RIGHT/TOP_BOTTOM
BAND_ORGANIZATION: SINGLE FILE
BAND_CONTENT: BLACK&WHITE
BAND_CONTENT: UNDEFINED
BAND_CONTENT: UNDEFINED
BITS_PER_PIXEL: 8
SAMPLES_AND_LINES: 5643 7678
HORIZONTAL_DATUM: NAD83
HORIZONTAL_COORDINATE_SYSTEM: UTM
COORDINATE_ZONE: 13
HORIZONTAL_UNITS: METERS
HORIZONTAL_RESOLUTION: 1.00000
SECONDARY_HORIZONTAL_DATUM: NAD27
XY_ORIGIN: 331418.00000 5145284.00000
SECONDARY_XY_ORIGIN: 331460.63200 5145065.83300
NATION: US
NATION: "SCIENCE
STATE: MT
NW_QUAD_CORNER_XY: 331958.76000 5144983.63200
NE_QUAD_CORNER_XY: 336759.82900 5144852.64300
SE_QUAD_CORNERY_XY: 336573.20800 5137908.19800
SW_QUAD_CORNER_XY: 331766.64600 5138039.20000
SECONDARY_NW_QUAD_XY: 331953.64300 5144765.45800
SECONDARY_NE_QUAD_XY: 336754.85700 5144634.46600
SECONDARY_SE_QUAD_XY: 336568.23700 5137690.05700
SECONDARY_SW_QUAD_XY: 331761.52900 5137821.06300
RMSE_XY: 1.10000
IMAGE_SOURCE: BLACK AND WHITE FILM
SOURCE_IMAGE_ID: NAPP 9100 032
SOURCE_IMAGE_DATE: 1996 07 14
SOURCE_IMAGE_ID: NAPP 9100 033
SOURCE_IMAGE_DATE: 1996 07 14
SOURCE_DEM_DATE: 1956 00 00
AGENCY: WESTERN MAPPING CENTER (WMC)
PRODUCER: UNDEFINED
PRODUCTION_SYSTEM: GIS/MAGIC
COMPRESSION: UNDEFINED
STANDARD_VERSION: 1996 12
METADATA_DATE: 1999 05 24
DATA_FILE_SIZE: 43332597
BYTE_COUNT: 5643
