FILENAME: O4610737.NWS.1009028.tif
QUADRANGLE_NAME: MCKONKEY CREEK
QUADRANT: NW
WEST_LONGITUDE: -107 30 0.00000
EAST_LONGITUDE: -107 26 15.00000
NORTH_LATITUDE: 46 30 0.00000
SOUTH_LATITUDE: 46 26 15.00000
PRODUCTION_DATE: 1999 5 4
RASTER_ORDER: LEFT_RIGHT/TOP_BOTTOM
BAND_ORGANIZATION: SINGLE FILE
BAND_CONTENT: BLACK&WHITE
BAND_CONTENT: UNDEFINED
BAND_CONTENT: UNDEFINED
BITS_PER_PIXEL: 8
SAMPLES_AND_LINES: 5667 7698
HORIZONTAL_DATUM: NAD83
HORIZONTAL_COORDINATE_SYSTEM: UTM
COORDINATE_ZONE: 13
HORIZONTAL_UNITS: METERS
HORIZONTAL_RESOLUTION: 1.00000
SECONDARY_HORIZONTAL_DATUM: NAD27
XY_ORIGIN: 307603.00000 5152941.00000
SECONDARY_XY_ORIGIN: 307646.16300 5152723.05400
NATION: US
NATION: "SCIENCE
STATE: MT
NW_QUAD_CORNER_XY: 308173.39100 5152640.00200
NE_QUAD_CORNER_XY: 312968.90600 5152490.02600
SE_QUAD_CORNERY_XY: 312754.58700 5145545.59100
SW_QUAD_CORNER_XY: 307953.57100 5145695.58300
SECONDARY_NW_QUAD_XY: 308167.54100 5152421.81400
SECONDARY_NE_QUAD_XY: 312963.20200 5152271.83400
SECONDARY_SE_QUAD_XY: 312748.88500 5145327.43400
SECONDARY_SW_QUAD_XY: 307947.72200 5145477.43100
RMSE_XY: 0.90000
IMAGE_SOURCE: BLACK AND WHITE FILM
SOURCE_IMAGE_ID: NAPP 9133 232
SOURCE_IMAGE_DATE: 1996 08 08
SOURCE_DEM_DATE: 1956 00 00
AGENCY: WESTERN MAPPING CENTER (WMC)
PRODUCER: UNDEFINED
PRODUCTION_SYSTEM: GIS/MAGIC
COMPRESSION: UNDEFINED
STANDARD_VERSION: 1996 12
METADATA_DATE: 1999 05 24
DATA_FILE_SIZE: 43630233
BYTE_COUNT: 5667
