FILENAME: O4610737.SES.1009029.tif
QUADRANGLE_NAME: MCKONKEY CREEK
QUADRANT: SE
WEST_LONGITUDE: -107 26 15.00000
EAST_LONGITUDE: -107 22 30.00000
NORTH_LATITUDE: 46 26 15.00000
SOUTH_LATITUDE: 46 22 30.00000
PRODUCTION_DATE: 1999 5 4
RASTER_ORDER: LEFT_RIGHT/TOP_BOTTOM
BAND_ORGANIZATION: SINGLE FILE
BAND_CONTENT: BLACK&WHITE
BAND_CONTENT: UNDEFINED
BAND_CONTENT: UNDEFINED
BITS_PER_PIXEL: 8
SAMPLES_AND_LINES: 5667 7694
HORIZONTAL_DATUM: NAD83
HORIZONTAL_COORDINATE_SYSTEM: UTM
COORDINATE_ZONE: 13
HORIZONTAL_UNITS: METERS
HORIZONTAL_RESOLUTION: 1.00000
SECONDARY_HORIZONTAL_DATUM: NAD27
XY_ORIGIN: 312190.00000 5145846.00000
SECONDARY_XY_ORIGIN: 312232.97400 5145627.99600
NATION: US
NATION: "SCIENCE
STATE: MT
NW_QUAD_CORNER_XY: 312754.58700 5145545.59100
NE_QUAD_CORNER_XY: 317555.61500 5145399.39900
SE_QUAD_CORNERY_XY: 317347.01600 5138455.01100
SW_QUAD_CORNER_XY: 312540.49300 5138601.21800
SECONDARY_NW_QUAD_XY: 312748.88500 5145327.43400
SECONDARY_NE_QUAD_XY: 317550.05800 5145181.23900
SECONDARY_SE_QUAD_XY: 317341.46100 5138236.88700
SECONDARY_SW_QUAD_XY: 312534.79100 5138383.09800
RMSE_XY: 1.20000
IMAGE_SOURCE: BLACK AND WHITE FILM
SOURCE_IMAGE_ID: NAPP 9133 139
SOURCE_IMAGE_DATE: 1996 08 08
SOURCE_IMAGE_ID: NAPP 9133 230
SOURCE_IMAGE_DATE: 1996 08 08
SOURCE_DEM_DATE: 1956 00 00
AGENCY: WESTERN MAPPING CENTER (WMC)
PRODUCER: UNDEFINED
PRODUCTION_SYSTEM: GIS/MAGIC
COMPRESSION: UNDEFINED
STANDARD_VERSION: 1996 12
METADATA_DATE: 1999 05 24
DATA_FILE_SIZE: 43607565
BYTE_COUNT: 5667
