FILENAME: O4610736.SES.1009004.tif
QUADRANGLE_NAME: RUSKOSKY RIDGE
QUADRANT: SE
WEST_LONGITUDE: -107 33 45.00000
EAST_LONGITUDE: -107 30 0.00000
NORTH_LATITUDE: 46 26 15.00000
SOUTH_LATITUDE: 46 22 30.00000
PRODUCTION_DATE: 1999 5 4
RASTER_ORDER: LEFT_RIGHT/TOP_BOTTOM
BAND_ORGANIZATION: SINGLE FILE
BAND_CONTENT: BLACK&WHITE
BAND_CONTENT: UNDEFINED
BAND_CONTENT: UNDEFINED
BITS_PER_PIXEL: 8
SAMPLES_AND_LINES: 5678 7701
HORIZONTAL_DATUM: NAD83
HORIZONTAL_COORDINATE_SYSTEM: UTM
COORDINATE_ZONE: 13
HORIZONTAL_UNITS: METERS
HORIZONTAL_RESOLUTION: 1.00000
SECONDARY_HORIZONTAL_DATUM: NAD27
XY_ORIGIN: 302577.00000 5146150.00000
SECONDARY_XY_ORIGIN: 302620.20900 5145932.04700
NATION: US
NATION: "SCIENCE
STATE: MT
NW_QUAD_CORNER_XY: 303152.56600 5145849.37800
NE_QUAD_CORNER_XY: 307953.57100 5145695.58300
SE_QUAD_CORNERY_XY: 307733.98100 5138751.22700
SW_QUAD_CORNER_XY: 302927.47900 5138905.03700
SECONDARY_NW_QUAD_XY: 303146.57100 5145631.23100
SECONDARY_NE_QUAD_XY: 307947.72200 5145477.43100
SECONDARY_SE_QUAD_XY: 307728.13300 5138533.11100
SECONDARY_SW_QUAD_XY: 302921.48500 5138686.92600
RMSE_XY: 1.30000
IMAGE_SOURCE: BLACK AND WHITE FILM
SOURCE_IMAGE_ID: NAPP 9135 046
SOURCE_IMAGE_DATE: 1996 08 19
SOURCE_DEM_DATE: 1973 00 00
AGENCY: WESTERN MAPPING CENTER (WMC)
PRODUCER: UNDEFINED
PRODUCTION_SYSTEM: GIS/MAGIC
COMPRESSION: UNDEFINED
STANDARD_VERSION: 1996 12
METADATA_DATE: 1999 05 24
DATA_FILE_SIZE: 43731956
BYTE_COUNT: 5678
