FILENAME: O4610736.SWS.1009005.tif
QUADRANGLE_NAME: RUSKOSKY RIDGE
QUADRANT: SW
WEST_LONGITUDE: -107 37 30.00000
EAST_LONGITUDE: -107 33 45.00000
NORTH_LATITUDE: 46 26 15.00000
SOUTH_LATITUDE: 46 22 30.00000
PRODUCTION_DATE: 1999 5 4
RASTER_ORDER: LEFT_RIGHT/TOP_BOTTOM
BAND_ORGANIZATION: SINGLE FILE
BAND_CONTENT: BLACK&WHITE
BAND_CONTENT: UNDEFINED
BAND_CONTENT: UNDEFINED
BITS_PER_PIXEL: 8
SAMPLES_AND_LINES: 5684 7705
HORIZONTAL_DATUM: NAD83
HORIZONTAL_COORDINATE_SYSTEM: UTM
COORDINATE_ZONE: 13
HORIZONTAL_UNITS: METERS
HORIZONTAL_RESOLUTION: 1.00000
SECONDARY_HORIZONTAL_DATUM: NAD27
XY_ORIGIN: 297770.00000 5146307.00000
SECONDARY_XY_ORIGIN: 297813.35900 5146089.05100
NATION: US
NATION: "SCIENCE
STATE: MT
NW_QUAD_CORNER_XY: 298351.57300 5146006.97400
NE_QUAD_CORNER_XY: 303152.56600 5145849.37800
SE_QUAD_CORNERY_XY: 302927.47900 5138905.03700
SW_QUAD_CORNER_XY: 298120.98900 5139062.65100
SECONDARY_NW_QUAD_XY: 298345.43100 5145788.83200
SECONDARY_NE_QUAD_XY: 303146.57100 5145631.23100
SECONDARY_SE_QUAD_XY: 302921.48500 5138686.92600
SECONDARY_SW_QUAD_XY: 298114.84900 5138844.54400
RMSE_XY: 1.10000
IMAGE_SOURCE: BLACK AND WHITE FILM
SOURCE_IMAGE_ID: NAPP 9135 137
SOURCE_IMAGE_DATE: 1996 08 19
SOURCE_IMAGE_ID: NAPP 9131 146
SOURCE_IMAGE_DATE: 1996 07 29
SOURCE_IMAGE_ID: NAPP 9135 135
SOURCE_IMAGE_DATE: 1996 08 19
SOURCE_DEM_DATE: 1973 00 00
AGENCY: WESTERN MAPPING CENTER (WMC)
PRODUCER: UNDEFINED
PRODUCTION_SYSTEM: GIS/MAGIC
COMPRESSION: UNDEFINED
STANDARD_VERSION: 1996 12
METADATA_DATE: 1999 05 24
DATA_FILE_SIZE: 43800904
BYTE_COUNT: 5684
